BEGIN:VCALENDAR
VERSION:2.0
PRODID:-//ChamberMaster//Event Calendar 2.0//EN
METHOD:PUBLISH
X-PUBLISHED-TTL:P3D
REFRESH-INTERVAL:P3D
CALSCALE:GREGORIAN
BEGIN:VEVENT
DTSTART:20151027T220000Z
DTEND:20151028T013000Z
X-MICROSOFT-CDO-ALLDAYEVENT:FALSE
SUMMARY:10th Annual Chamber TASTE of Fergus Falls 2015
DESCRIPTION:10th Annual TASTE of Fergus Falls presented by the Fergus Falls Area Chamber of Commerce\n\n\n	Delicious Food Samples from 15 Chamber Member Restaurants and Delis including: American Legion\, Bello Cucina\, Bigwood Event Center\, Don Pablo's\, Fiesta Brava\, Hardees\, Papa Murphy's\, Pizza Ranch\, Service Food\, Simply Special Celebrations\, Socials\, Viking Cafe\, Viking Coca-Cola\, Zens Creative Catering\, Z103 Bar & Grill\n	Menu includes: BBQ Ribs\, Cheesy Potatoes\, Homemade Meatballs w/Signature Sauces & Potatoes\, Hush Puppies\, Beignets\, Gumbo\, Bread Pudding\, Red Beans & Rice (with our without Sausage)\, Pork Carnitas Tacos\, Chicken & Steak w/Veggies & Rice\, Guacamole\, Cheese Dip\, Chicken Tenders\, Cinnamon Raisin Biscuits\, Customer-Creations Pizzas\, Cookies\, Smoked Salmon\, Oreo Balls\, Drunken Shrimp Linguini\, Bourbon Street Chicken Wings\, Chocolate Bourbon Pecan Cupcakes\, Pulled Pork Sliders\, Sriracha Pepperoni Pizza\, AppleSlaw Salad and a few surprises!\n	"Mystery Card Game" Spend $20   Get $20 or more - Everyone Wins!\n	Silent Auction (shop now for Christmas) -- over 100 items\n	Live Auction with Aasness Auctioneers\n	DJ Greg Brady- featuring New Orleans Jazz\n	Wall of Wine\n	Chance to Win a Grand Prize\n	Networking\, Networking\, Networking \n	Auction Items include: \n	\n		Business Tools: TV advertising\, digital billboard advertising\n		Adventures & Entertainment: A Center for the Arts\, Chanhassen\, Fargo Force & SCSU Hockey\, Shooting Star Casino\, Pool Parties\n		iRobot Roomba 630 vacuum cleaning robot\n		MN Twins autographed baseball Hall of Famer Bert Blyleven\n		MN Vikings autographed photo Cordarelle Patterson\n		Milwaukee Tools & accessories in "Homer" pail\n		Bird and Wood duck houses\n		Brand Name Designers: Bolle sunglasses\, Steve Madden Handbag & Tote\, Kit Heath Sterling Silver Pendant & Earrings\n		Artwork from local artists: drawings\, leaf bowls\, ceramics\, wall hangings\, purse\, pillow\, sculptures\n		Vacations at local resorts: Maple Leaf\, Xanadu Island & 3 Lakes\n		Granite "Lazy Susan"\n		Gift Baskets Galore: Pets\, Movie Night\, Snacks\, Coffee\, Pizza\, Bath & Body\n		Complete Vehicle Detail\n		Collectibles: US Flag flown over US Capitol\, American Eagle Silver Dollar\n		Sports: Golf Balls\, YMCA Adult Membership\, Anytime Fitness Membership w/tanning\n		Basket of goodies from the Farmers Market\n		Clothing: Men's Camo Jacket\, Ladies Full Zip Jacket\, HD Hoodies\, Otters Polos\n		Picnic Gear: Camp chairs\, coolers\, blankets\, BBQ tools
X-ALT-DESC;FMTTYPE=text/html:<span style="font-family: verdana\;"><span style="color: rgb(34\, 34\, 34)\;"><span style="color: rgb(34\, 34\, 34)\;">10th Annual TASTE of Fergus Falls presented by the Fergus Falls Area Chamber of Commerce</span></span></span>\n\n<ul>\n	<li style="margin: 0in 0in 10pt\; color: rgb(34\, 34\, 34)\; line-height: normal\;"><span style="font-family: verdana\;">Delicious Food Samples from 15 Chamber Member Restaurants and Delis including: American Legion\, Bello Cucina\, Bigwood Event Center\, Don Pablo&#39\;s\, Fiesta Brava\, Hardees\, Papa Murphy&#39\;s\, Pizza Ranch\, Service Food\, Simply Special Celebrations\, Socials\, Viking Cafe\, Viking Coca-Cola\, Zens Creative Catering\, Z103 Bar &amp\; Grill</span></li>\n	<li style="margin: 0in 0in 10pt\; color: rgb(34\, 34\, 34)\; line-height: normal\;"><span style="font-family: verdana\;">Menu includes: BBQ Ribs\, Cheesy Potatoes\, Homemade Meatballs w/Signature Sauces &amp\; Potatoes\, Hush Puppies\, Beignets\, Gumbo\, Bread Pudding\, Red Beans &amp\; Rice (with our without Sausage)\, Pork Carnitas Tacos\, Chicken &amp\; Steak w/Veggies &amp\; Rice\, Guacamole\, Cheese Dip\, Chicken Tenders\, Cinnamon Raisin Biscuits\, Customer-Creations Pizzas\, Cookies\, Smoked Salmon\, Oreo Balls\, Drunken Shrimp Linguini\, Bourbon Street Chicken Wings\, Chocolate Bourbon Pecan Cupcakes\, Pulled Pork Sliders\, Sriracha Pepperoni Pizza\, AppleSlaw Salad and a few surprises!</span></li>\n	<li style="margin: 0in 0in 10pt\; color: rgb(34\, 34\, 34)\; line-height: normal\;"><span style="font-family: verdana\;"><span style="color: rgb(34\, 34\, 34)\;">&quot\;Mystery Card Game&quot\; Spend $20 &middot\; Get $20 or more - Everyone Wins!</span></span></li>\n	<li style="margin: 0in 0in 10pt\; color: rgb(34\, 34\, 34)\; line-height: normal\;"><span style="font-family: verdana\;"><span style="color: rgb(34\, 34\, 34)\;">Silent Auction&nbsp\;(shop now for Christmas)&nbsp\;-- over 100 items</span></span></li>\n	<li style="margin: 0in 0in 10pt\; color: rgb(34\, 34\, 34)\; line-height: normal\;"><span style="font-family: verdana\;"><span style="color: rgb(34\, 34\, 34)\;">Live Auction with Aasness Auctioneers</span></span></li>\n	<li style="margin: 0in 0in 10pt\; color: rgb(34\, 34\, 34)\; line-height: normal\;"><span style="font-family: verdana\;">DJ Greg Brady- featuring New Orleans Jazz</span></li>\n	<li style="margin: 0in 0in 10pt\; color: rgb(34\, 34\, 34)\; line-height: normal\;"><span style="font-family: verdana\;">Wall of Wine</span></li>\n	<li style="margin: 0in 0in 10pt\; color: rgb(34\, 34\, 34)\; line-height: normal\;"><span style="font-family: verdana\;">Chance to Win&nbsp\;a Grand Prize</span></li>\n	<li style="margin: 0in 0in 10pt\; color: rgb(34\, 34\, 34)\; line-height: normal\;"><span style="font-family: verdana\;"><span style="color: rgb(34\, 34\, 34)\;">Networking\, Networking\, Networking<strong> </strong></span></span></li>\n	<li style="margin: 0in 0in 10pt\; color: rgb(34\, 34\, 34)\; line-height: normal\;"><span style="font-family: verdana\;"><span style="color: rgb(34\, 34\, 34)\;"><strong>Auction Items include: </strong></span></span>\n	<ul>\n		<li style="margin: 0in 0in 10pt\; color: rgb(34\, 34\, 34)\; line-height: normal\;"><span style="font-family: verdana\;"><span style="color: rgb(34\, 34\, 34)\;">Business Tools: TV advertising\, digital billboard advertising</span></span></li>\n		<li style="margin: 0in 0in 10pt\; color: rgb(34\, 34\, 34)\; line-height: normal\;"><span style="font-family: verdana\;"><span style="color: rgb(34\, 34\, 34)\;">Adventures &amp\; Entertainment: A Center for the Arts\, Chanhassen\, Fargo Force &amp\; SCSU Hockey\, Shooting Star Casino\, Pool Parties</span></span></li>\n		<li style="margin: 0in 0in 10pt\; color: rgb(34\, 34\, 34)\; line-height: normal\;"><span style="font-family: verdana\;"><span style="color: rgb(34\, 34\, 34)\;">iRobot Roomba 630 vacuum cleaning robot</span></span></li>\n		<li style="margin: 0in 0in 10pt\; color: rgb(34\, 34\, 34)\; line-height: normal\;"><span style="font-family: verdana\;"><span style="color: rgb(34\, 34\, 34)\;">MN Twins autographed baseball Hall of Famer Bert Blyleven</span></span></li>\n		<li style="margin: 0in 0in 10pt\; color: rgb(34\, 34\, 34)\; line-height: normal\;"><span style="font-family: verdana\;"><span style="color: rgb(34\, 34\, 34)\;">MN Vikings autographed photo Cordarelle Patterson</span></span></li>\n		<li style="margin: 0in 0in 10pt\; color: rgb(34\, 34\, 34)\; line-height: normal\;"><span style="font-family: verdana\;"><span style="color: rgb(34\, 34\, 34)\;">Milwaukee Tools &amp\; accessories in &quot\;Homer&quot\; pail</span></span></li>\n		<li style="margin: 0in 0in 10pt\; color: rgb(34\, 34\, 34)\; line-height: normal\;"><span style="font-family: verdana\;"><span style="color: rgb(34\, 34\, 34)\;">Bird and Wood duck houses</span></span></li>\n		<li style="margin: 0in 0in 10pt\; color: rgb(34\, 34\, 34)\; line-height: normal\;"><span style="font-family: verdana\;"><span style="color: rgb(34\, 34\, 34)\;">Brand Name Designers: Bolle sunglasses\, Steve Madden Handbag &amp\; Tote\, Kit Heath Sterling Silver Pendant &amp\; Earrings</span></span></li>\n		<li style="margin: 0in 0in 10pt\; color: rgb(34\, 34\, 34)\; line-height: normal\;"><span style="font-family: verdana\;"><span style="color: rgb(34\, 34\, 34)\;">Artwork from local artists: drawings\, leaf bowls\, ceramics\, wall hangings\, purse\, pillow\, sculptures</span></span></li>\n		<li style="margin: 0in 0in 10pt\; color: rgb(34\, 34\, 34)\; line-height: normal\;"><span style="font-family: verdana\;"><span style="color: rgb(34\, 34\, 34)\;">Vacations at local resorts: Maple Leaf\, Xanadu Island &amp\; 3 Lakes</span></span></li>\n		<li style="margin: 0in 0in 10pt\; color: rgb(34\, 34\, 34)\; line-height: normal\;"><span style="font-family: verdana\;"><span style="color: rgb(34\, 34\, 34)\;">Granite &quot\;Lazy Susan&quot\;</span></span></li>\n		<li style="margin: 0in 0in 10pt\; color: rgb(34\, 34\, 34)\; line-height: normal\;"><span style="font-family: verdana\;"><span style="color: rgb(34\, 34\, 34)\;">Gift Baskets Galore: Pets\, Movie Night\, Snacks\, Coffee\, Pizza\, Bath &amp\; Body</span></span></li>\n		<li style="margin: 0in 0in 10pt\; color: rgb(34\, 34\, 34)\; line-height: normal\;"><span style="font-family: verdana\;"><span style="color: rgb(34\, 34\, 34)\;">Complete Vehicle Detail</span></span></li>\n		<li style="margin: 0in 0in 10pt\; color: rgb(34\, 34\, 34)\; line-height: normal\;"><span style="font-family: verdana\;"><span style="color: rgb(34\, 34\, 34)\;">Collectibles: US Flag flown over US Capitol\, American Eagle Silver Dollar</span></span></li>\n		<li style="margin: 0in 0in 10pt\; color: rgb(34\, 34\, 34)\; line-height: normal\;"><span style="font-family: verdana\;"><span style="color: rgb(34\, 34\, 34)\;">Sports: Golf Balls\, YMCA Adult Membership\, Anytime Fitness Membership w/tanning</span></span></li>\n		<li style="margin: 0in 0in 10pt\; color: rgb(34\, 34\, 34)\; line-height: normal\;"><span style="font-family: verdana\;"><span style="color: rgb(34\, 34\, 34)\;">Basket of goodies from the Farmers Market</span></span></li>\n		<li style="margin: 0in 0in 10pt\; color: rgb(34\, 34\, 34)\; line-height: normal\;"><span style="font-family: verdana\;"><span style="color: rgb(34\, 34\, 34)\;">Clothing: Men&#39\;s Camo Jacket\, <span style="font-family: verdana\;"><span style="color: rgb(34\, 34\, 34)\;">Ladies Full Zip Jacket\, HD Hoodies\, Otters Polos</span></span></span></span></li>\n		<li style="margin: 0in 0in 10pt\; color: rgb(34\, 34\, 34)\; line-height: normal\;"><span style="font-family: verdana\;"><span style="color: rgb(34\, 34\, 34)\;"><span style="font-family: verdana\;"><span style="color: rgb(34\, 34\, 34)\;">Picnic Gear: Camp chairs\, coolers\, blankets\, BBQ tools</span></span></span></span></li>\n	</ul>\n	</li>\n</ul>\n
LOCATION:Bigwood Event Center 925 Western Ave. Fergus Falls\, MN
UID:e.314.24041
SEQUENCE:3
DTSTAMP:20260426T030647Z
URL:https://business.fergusfalls.com/events/details/10th-annual-chamber-taste-of-fergus-falls-2015-10-27-2015-24041
END:VEVENT

END:VCALENDAR
