BEGIN:VCALENDAR
VERSION:2.0
PRODID:-//ChamberMaster//Event Calendar 2.0//EN
METHOD:PUBLISH
X-PUBLISHED-TTL:P3D
REFRESH-INTERVAL:P3D
CALSCALE:GREGORIAN
BEGIN:VEVENT
DTSTART:20180210T230000Z
DTEND:20180211T050000Z
X-MICROSOFT-CDO-ALLDAYEVENT:FALSE
SUMMARY:10th Annual Friends of Friends Fighting Hunger Charity Event
DESCRIPTION:Join us for the 10th Annual Friends of Friends Fighting Hunger Event at Thumper Pond in Ottertail\, MN. Proceeds benefit Otter Tail County food shelves and the Children's Weekend Feeding Backpack Program. Tickets are $50 each and include dinner\, live & silent auction. (Provided by Aasness Auctioneers) Music provided by Mitch and Micah G. Special guest Audrey Swanson. \n\nTo order Tickets online: www.uwotw.org or call 877-457-2185
X-ALT-DESC;FMTTYPE=text/html:Join us for the 10th Annual Friends of Friends Fighting Hunger Event at Thumper Pond in Ottertail\, MN. Proceeds benefit Otter Tail County food shelves and the Children&#39\;s Weekend Feeding Backpack Program. Tickets are $50 each and include dinner\, live &amp\; silent auction. (Provided by Aasness Auctioneers) Music provided by Mitch and Micah G. Special guest Audrey Swanson.&nbsp\;<br />\nTo order Tickets online: www.uwotw.org or call 877-457-2185
LOCATION:Thumper Pond Ottertail\, MN
UID:e.314.43314
SEQUENCE:3
DTSTAMP:20260424T025929Z
URL:https://business.fergusfalls.com/events/details/10th-annual-friends-of-friends-fighting-hunger-charity-event-43314
END:VEVENT

END:VCALENDAR
