BEGIN:VCALENDAR
VERSION:2.0
PRODID:-//ChamberMaster//Event Calendar 2.0//EN
METHOD:PUBLISH
X-PUBLISHED-TTL:P3D
REFRESH-INTERVAL:P3D
CALSCALE:GREGORIAN
BEGIN:VEVENT
DTSTART:20190126T230000Z
DTEND:20190127T030000Z
X-MICROSOFT-CDO-ALLDAYEVENT:FALSE
SUMMARY:11th Annual Friends of Friends Fighting Hunger Event
DESCRIPTION:On Saturday\, January 26\, 2019\, Friends of Friends Fighting Hunger is holding their 11th annual event benefiting local food shelves and Weekend Feeding Backpack programs. Don't miss out on silent and live auctions and supper at Thumper Pond. After an impactful event last year\, raising over $88\,000 dollars to help families and neighbors living with food insecurities\, Friends of Friends welcomes YOU to join in this 11th annual event!\n\nDuring this Otter Tail County school year\, 466 children will have been provided with shelf stable and easily prepared food-filled backpacks to bring home over the weekend. Why is this necessary? It is necessary because here\, in Otter Tail County\, we have children who\, without their weekday school breakfast and lunch\, go without food over the weekend. YOUR generosity feeds children who may otherwise have two days of hunger before returning to school on Monday.
X-ALT-DESC;FMTTYPE=text/html:<span>On Saturday\, January 26\, 2019\, Friends of Friends Fighting Hunger is holding their 11th annual event benefiting local food shelves and Weekend Feeding Backpack programs. Don&rsquo\;t miss out on silent and live auctions and supper at Thumper Pond. After an impactful event last year\, raising over $88\,000 dollars to help families and neighbors living with food insecurities\, Friends of Friends welcomes YOU to join in this 11th annual event!<br />\nDuring this Otter Tail County school year\, 466 children will have been provided with shelf stable and easily prepared food-filled backpacks to bring home over the weekend. Why is this necessary? It is necessary because here\, in Otter Tail County\, we have children who\, without their weekday school breakfast and lunch\, go without food over the weekend. YOUR generosity feeds children who may otherwise have two days of hunger before returning to school on Monday.</span>
LOCATION:Thumper Pond Resort in Ottertail MN 300 Thumper Lodge Rd\, Ottertail\, Minnesota 56571
UID:e.314.52053
SEQUENCE:3
DTSTAMP:20260423T110234Z
URL:https://business.fergusfalls.com/events/details/11th-annual-friends-of-friends-fighting-hunger-event-52053
END:VEVENT

END:VCALENDAR
