BEGIN:VCALENDAR
VERSION:2.0
PRODID:-//ChamberMaster//Event Calendar 2.0//EN
METHOD:PUBLISH
X-PUBLISHED-TTL:P3D
REFRESH-INTERVAL:P3D
CALSCALE:GREGORIAN
BEGIN:VEVENT
DTSTART:20151022T170000Z
DTEND:20151022T180000Z
X-MICROSOFT-CDO-ALLDAYEVENT:FALSE
SUMMARY:12 Noon Body Pump @ Anytime Fitness
DESCRIPTION:12 Noon Body Pump @ Anytime Fitness
X-ALT-DESC;FMTTYPE=text/html:12 Noon Body Pump @ Anytime Fitness<br />\n<br />\n&nbsp\;
LOCATION:Anytime Fitness 120 1/2 West Cavour City Center Mall Fergus Falls\, MN 56537 (218) 998-4424
UID:e.314.24874
SEQUENCE:3
DTSTAMP:20260426T030703Z
URL:https://business.fergusfalls.com/events/details/12-noon-body-pump-anytime-fitness-10-22-2015-24874
END:VEVENT

END:VCALENDAR
