BEGIN:VCALENDAR
VERSION:2.0
PRODID:-//ChamberMaster//Event Calendar 2.0//EN
METHOD:PUBLISH
X-PUBLISHED-TTL:P3D
REFRESH-INTERVAL:P3D
CALSCALE:GREGORIAN
BEGIN:VEVENT
DTSTART:20171024T220000Z
DTEND:20171025T010000Z
X-MICROSOFT-CDO-ALLDAYEVENT:FALSE
SUMMARY:12th Annual Chamber TASTE of Fergus Falls 2017 "Tour the World"
DESCRIPTION:12th Annual TASTE of Fergus Falls -- Annual Meeting for the Fergus Falls Area Chamber of Commerce. Enjoy delicious food samples including:\n\n	Asian Lettuce Wraps with Tumeric Chicken\n	BBQ Ribs\n	Chicken Tortilla Soup\n	Chicken Tenders\n	Burgundy Beef Tips\n	Sliders\n	Hog Pile\n	Swedish Meatballs & Gravy\n	Pulled Pork Sandwiches\n	French Dip Sandwiches w/Au Jus\n	Carnitas Tacos with Guacamole & Pico de Gallo\n	Sage Stuffed Chicken Breast\n	Lobster Mac & Cheese\n	Tuscan Rigatoni\n	Linquine di Bosco\n	Honey Garlic BBQ Meatballs\n	Pork Loin w/Creamy Marsala\n	Butterfinger Dessert\n	Kettle Corn\n	Pumpkin Cheesecake Bites\n	Cookies\n\n in addition to many other wonderful "Taste of Fergus Falls " traditions such as:\n\n\n	Live Auction WITH AASNESS AUCTIONEERS -- Proxy bids accepted if you're unable to attend Live Auction\n	Wall of Wine & Bunch of Beer - $5/chance of 5/$20\n	Mystery Wheel - $20/spin -- everyone wins!\n	Silent Auction -- over 100 awesome items: gift baskets\, home decor\, tools\, clothing\, advertising & so much more!!\n	"Early Bird" Grand Prize Drawing (turn in your ticket registration by October 16) for a chance to win Fergus Bucks!\n	Click Here for Reserved Table & Exhibitor Layout \n\n\nLIVE AUCTION ITEMS:\n\n1. $100 Shopping Spree donated by Victor Lundeen Co. The fun place to shop.\n\n2. Hand-crafted Wood Bar Table with accessories donated by Jennifer Fronning\n\n3. 12 Bouquets of Flowers\, a bouquet a month for a year from The Market. Fresh flowers\, tastefully designed from your newest fresh flower market\n\n4. "Ultimate Excursion" Aerial Tour & Dinner for  2 @ Mabel's.  Experience OT Co.'s majestic beauty via airplane. Donated by pilot Guy Olson & Calla Lily Designs.\n\n5. Charles Beck print "Lone Tree\," donated by the Chamber Board of Directors. Commemorate Beck's impact on Fergus Falls. (includes $100 toward framing)\n\n6. "Cruise\, Brews & BBQs" for 4-6 people. Donated by Lisa & Troy Workman. Boat tour on Heilberger Lake\, craft beer tasting & authentic smoked BBQ (choice: ribs\, turkey\, chicken or steak). Take home: Schell's Noble Star brew & glassware\n\n7. "Blind" Wine Tasting Event with Appetizers & Dessert Pairing for 10 at your home. Taste some of the best bottles from chefs Jan & Chris Werkau's personal wine cellar\, alongside a few bargain bottles to keep things interesting\n\n8. Big Screen Movies in Your Backyard donated by Ottertail Telcom/Park Region Telephone. Host the biggest party or a private showing: birthday\, family reunion\, home movie\n\n9. "Presidential Table" 2018 TASTE of Fergus Falls. Exclusive Reserved VIP Table for 8 with premier d cor\, real dishes\, wine/cocktails\, table service & chocolates!
X-ALT-DESC;FMTTYPE=text/html:<span style="font-family: verdana\;"><span style="font-size: 11px\;"><strong><span style="font-size: 12px\;"><span style="color: rgb(34\, 34\, 34)\;"><span style="color: rgb(34\, 34\, 34)\;">12<sup>th</sup> Annual TASTE of Fergus Falls -- Annual Meeting for the Fergus Falls Area Chamber of Commerce. Enjoy&nbsp\;</span></span>delicious food samples including:</span></strong></span></span>\n<ul>\n	<li><span style="font-family: verdana\;"><span style="font-size: 11px\;"><strong>Asian Lettuce Wraps with Tumeric Chicken</strong></span></span></li>\n	<li><span style="font-family: verdana\;"><span style="font-size: 11px\;"><strong>BBQ Ribs</strong></span></span></li>\n	<li><span style="font-family: verdana\;"><span style="font-size: 11px\;"><strong>Chicken Tortilla Soup</strong></span></span></li>\n	<li><span style="font-family: verdana\;"><span style="font-size: 11px\;"><strong>Chicken Tenders</strong></span></span></li>\n	<li><span style="font-family: verdana\;"><span style="font-size: 11px\;"><strong>Burgundy Beef Tips</strong></span></span></li>\n	<li><span style="font-family: verdana\;"><span style="font-size: 11px\;"><strong>Sliders</strong></span></span></li>\n	<li><span style="font-family: verdana\;"><span style="font-size: 11px\;"><strong>Hog Pile</strong></span></span></li>\n	<li><span style="font-family: verdana\;"><span style="font-size: 11px\;"><strong>Swedish Meatballs &amp\; Gravy</strong></span></span></li>\n	<li><span style="font-family: verdana\;"><span style="font-size: 11px\;"><strong>Pulled Pork Sandwiches</strong></span></span></li>\n	<li><span style="font-family: verdana\;"><span style="font-size: 11px\;"><strong>French Dip Sandwiches w/Au Jus</strong></span></span></li>\n	<li><span style="font-family: verdana\;"><span style="font-size: 11px\;"><strong>Carnitas Tacos with Guacamole &amp\; Pico de Gallo</strong></span></span></li>\n	<li><span style="font-family: verdana\;"><span style="font-size: 11px\;"><strong>Sage Stuffed Chicken Breast</strong></span></span></li>\n	<li><span style="font-family: verdana\;"><span style="font-size: 11px\;"><strong>Lobster Mac &amp\; Cheese</strong></span></span></li>\n	<li><span style="font-family: verdana\;"><span style="font-size: 11px\;"><strong>Tuscan Rigatoni</strong></span></span></li>\n	<li><span style="font-family: verdana\;"><span style="font-size: 11px\;"><strong>Linquine di Bosco</strong></span></span></li>\n	<li><span style="font-family: verdana\;"><span style="font-size: 11px\;"><strong>Honey Garlic BBQ Meatballs</strong></span></span></li>\n	<li><span style="font-family: verdana\;"><span style="font-size: 11px\;"><strong>Pork Loin w/Creamy Marsala</strong></span></span></li>\n	<li><span style="font-family: verdana\;"><span style="font-size: 11px\;"><strong>Butterfinger Dessert</strong></span></span></li>\n	<li><span style="font-family: verdana\;"><span style="font-size: 11px\;"><strong>Kettle Corn</strong></span></span></li>\n	<li><span style="font-family: verdana\;"><span style="font-size: 11px\;"><strong>Pumpkin Cheesecake Bites</strong></span></span></li>\n	<li><span style="font-family: verdana\;"><span style="font-size: 11px\;"><strong>Cookies</strong></span></span></li>\n</ul>\n<span style="font-family: verdana\;"><span style="font-size: 11px\;"><strong>&nbsp\;</strong></span></span><span style="font-family: verdana\;"><span style="font-size: 11px\;"><strong>in addition to many other wonderful &quot\;Taste of Fergus Falls &quot\; traditions such as:</strong></span></span>\n\n<ul>\n	<li style="margin: 0in 0in 10pt\; color: rgb(34\, 34\, 34)\; line-height: normal\;"><span style="font-family: verdana\;"><span style="font-size: 11px\;"><strong><span style="font-weight: bold\; language: en-US\;">Live Auction WITH AASNESS AUCTIONEERS -- Proxy bids accepted if you&#39\;re unable to attend Live Auction</span></strong></span></span></li>\n	<li style="margin: 0in 0in 10pt\; color: rgb(34\, 34\, 34)\; line-height: normal\;"><span style="font-family: verdana\;"><span style="font-size: 11px\;"><strong>Wall of Wine &amp\; Bunch of Beer&nbsp\;- $5/chance of 5/$20</strong></span></span></li>\n	<li style="margin: 0in 0in 10pt\; color: rgb(34\, 34\, 34)\; line-height: normal\;"><span style="font-family: verdana\;"><span style="font-size: 11px\;"><strong>Mystery Wheel - $20/spin -- everyone wins!</strong></span></span></li>\n	<li style="margin: 0in 0in 10pt\; color: rgb(34\, 34\, 34)\; line-height: normal\;"><span style="font-family: verdana\;"><span style="font-size: 11px\;"><strong>Silent Auction -- over 100 awesome items: gift baskets\, home decor\, tools\, clothing\, advertising&nbsp\;&amp\; so much more!!</strong></span></span></li>\n	<li style="margin: 0in 0in 10pt\; color: rgb(34\, 34\, 34)\; line-height: normal\;"><strong style="font-family: verdana\; font-size: 11px\;">&quot\;Early Bird&quot\; Grand Prize Drawing (turn in your ticket registration by October 16) for a chance to win&nbsp\;Fergus Bucks!</strong></li>\n	<li style="margin: 0in 0in 10pt\; color: rgb(34\, 34\, 34)\; line-height: normal\;"><strong style="font-family: verdana\; font-size: 11px\;"><a href="https://chambermaster.blob.core.windows.net/userfiles/UserFiles/chambers/314/File/TASTEFINALSponsorExhibitorLayout2017.pdf">Click Here for Reserved Table &amp\; Exhibitor Layout</a> </strong></li>\n</ul>\n\n<div style="margin: 0in 0in 10pt\; color: rgb(34\, 34\, 34)\; line-height: normal\;"><span style="color: rgb(139\, 69\, 19)\; font-family: verdana\; font-size: 11px\;"><span style="font-size: 12px\;"><strong><u>LIVE AUCTION ITEMS:</u></strong></span></span><br style="color: rgb(128\, 128\, 128)\; font-family: verdana\; font-size: 11px\;" />\n<span style="color: rgb(139\, 69\, 19)\; font-family: verdana\; font-size: 11px\;"><span style="unicode-bidi: embed\; direction: ltr\;">1.</span>&nbsp\;<strong><sup>$</sup>100 Shopping Spree donated by Victor Lundeen Co.</strong>&nbsp\;The fun place to shop.<br />\n<span style="unicode-bidi: embed\; direction: ltr\;">2.</span>&nbsp\;<strong>Hand-crafted Wood Bar Table</strong>&nbsp\;with accessories donated by Jennifer Fronning<br />\n<span style="unicode-bidi: embed\; direction: ltr\;">3.</span>&nbsp\;<strong>12 Bouquets of Flowers\,</strong>&nbsp\;a bouquet a month for a year from The Market. Fresh flowers\, tastefully designed from your newest fresh flower market<br />\n<span style="unicode-bidi: embed\; direction: ltr\;">4.</span>&nbsp\;<strong>&ldquo\;Ultimate Excursion&rdquo\; Aerial Tour &amp\; Dinner for&nbsp\; 2 @ Mabel&rsquo\;s.&nbsp\;</strong>&nbsp\;Experience OT Co.&rsquo\;s majestic beauty via airplane. Donated by pilot Guy Olson &amp\; Calla Lily Designs.<br />\n<span style="unicode-bidi: embed\; direction: ltr\;">5.</span>&nbsp\;<strong>Charles Beck print &ldquo\;Lone Tree\,&rdquo\;&nbsp\;</strong>donated by the Chamber Board of Directors. Commemorate Beck&rsquo\;s impact on Fergus Falls. (includes $100 toward framing)<br />\n<span style="unicode-bidi: embed\; direction: ltr\;">6.</span><strong>&nbsp\;&ldquo\;Cruise\, Brews &amp\; BBQs&rdquo\;&nbsp\;</strong>for 4-6 people. Donated by Lisa &amp\; Troy&nbsp\;Workman. Boat tour on Heilberger Lake\, craft beer tasting &amp\; authentic smoked BBQ (choice: ribs\, turkey\, chicken or steak). Take home: Schell&rsquo\;s Noble Star brew &amp\; glassware<br />\n<span style="unicode-bidi: embed\; direction: ltr\;">7.</span>&nbsp\;<strong>&ldquo\;Blind&rdquo\; Wine Tasting Event with Appetizers &amp\; Dessert Pairing for 10</strong>&nbsp\;at your home. Taste some of the best bottles from chefs Jan &amp\; Chris Werkau&rsquo\;s personal wine cellar\, alongside a few bargain bottles to keep things interesting<br />\n<span style="unicode-bidi: embed\; direction: ltr\;">8.</span>&nbsp\;<strong>Big Screen Movies in Your Backyard&nbsp\;</strong>donated by Ottertail Telcom/Park Region Telephone. Host the biggest party or a private showing: birthday\, family reunion\, home movie<br />\n<span style="unicode-bidi: embed\; direction: ltr\;">9.</span>&nbsp\;<strong>&ldquo\;Presidential Table&rdquo\; 2018 TASTE of Fergus Falls.&nbsp\;</strong>Exclusive Reserved VIP Table for 8 with premier d&eacute\;cor\, real dishes\, wine/cocktails\, table service &amp\; chocolates!</span></div>\n
LOCATION:Bigwood Event Center 925 Western Ave. Fergus Falls\, MN 56537 (plenty of parking at Z103 Bar & Grill)
UID:e.314.41037
SEQUENCE:3
DTSTAMP:20260424T110040Z
URL:https://business.fergusfalls.com/events/details/12th-annual-chamber-taste-of-fergus-falls-2017-tour-the-world-41037
END:VEVENT

END:VCALENDAR
