BEGIN:VCALENDAR
VERSION:2.0
PRODID:-//ChamberMaster//Event Calendar 2.0//EN
METHOD:PUBLISH
X-PUBLISHED-TTL:P3D
REFRESH-INTERVAL:P3D
CALSCALE:GREGORIAN
BEGIN:VEVENT
DTSTART:20181023T220000Z
DTEND:20181024T010000Z
X-MICROSOFT-CDO-ALLDAYEVENT:FALSE
SUMMARY:13th Annual Chamber TASTE of Fergus Falls 2018 "Under the Sea"
DESCRIPTION:13th Annual TASTE of Fergus Falls -- Annual Meeting for the Fergus Falls Area Chamber of Commerce. \n\nWhat you need to know\, before you go: \n\n\n	Fill out your ticket stub completely\, (your home address) & get info to the Chamber: 736-6951 or chamber@fergusfalls.com by October 22.\n	Eat a light lunch -- come hungry! Samples from 12 delicious restaurants will fill you up.\n	Bring your ticket and your ID. Your ticket indicates your table - all seating is reserved.\n	Your ticket # is your BID # -- make sure YOU are registered with your # (not someone else)\n	Bring cash -- there is an ATM near Z103 Bar & Grill\n	Carpool - the parking lot will be full\n	Doors open at 4:45pm to the Silent Auction. Main event doors open at 5:00pm for dining.\n	Bid on Silent Auction items\, Spin the Mystery Wheel\, buy Wall of Wine chances\n	Eat\, drink & be merry!\n\nEnjoy delicious food samples in addition to other wonderful "Taste of Fergus Falls " traditions such as:\n\n\n	Silent Auction -- valuable items: gift baskets\, home decor\, tools\, clothing\, advertising & much more!!\n	"Chance" Gift Baskets -- buy chances to win awesome\, local gift baskets\n	Live Auction WITH AASNESS AUCTIONEERS\n	Wall of Wine & Treasure Chest of Beer - Chances 5/$20\n	Mystery Wheel - $20/spin -- everyone wins!\n	Food Exhibitors include: Aquarius/Kinetico\, American Legion Post 20\, Bigwood Event Center\, Cooking with MamaSheena\, Dining Car #423\, Don Pablo's Mexican Restaurant\, Jimmy John's\, Perkins Restaurant & Bakery\, Service Food\, VFW Post 612\, Zens Creative Catering\, Z103 Bar & Grill. On the menu: Salmon & crackers\,  chips & salsa\, shrimp cocktail\, California rolls\, bloody mary shooters\, mango quinoa salad\, chicken noodle soup\, tomato basil soup\, black bean chili\, clam chowder\,  ham & cheese sammies\, turkey sammies\, veggie sammies\, Ahi tuna tacos\, steak bites\, spaghetti\, BBQ ribs\, homemade ravioli\,  French silk pie\, cranberry orange muffins\, caramel apple pie\, creme brulee\, bottled water\, dessert bites\, & more! \n	"Early Bird" Grand Prize Drawing (turn in your ticket registration by October 16) for a chance to win Fergus Bucks!\n	Click here for donation form
X-ALT-DESC;FMTTYPE=text/html:<p><span style="font-size:12px\;"><span style="color:#000000\;"><span style="font-family: verdana\;"><strong>13<sup>th</sup> Annual TASTE of Fergus Falls -- Annual Meeting for the Fergus Falls Area Chamber of Commerce. </strong></span></span></span></p>\n\n<p><span style="color:#0000FF\;"><span style="font-size:12px\;"><span style="font-family: verdana\;"><strong>What you need to know\, before you go: </strong></span></span></span></p>\n\n<ol>\n	<li><span style="font-size:12px\;"><span style="color:#000000\;"><span style="font-family: verdana\;"><strong>Fill out your ticket stub completely\, (your home address) &amp\; get info to the Chamber: 736-6951 or <a href="mailto:chamber@fergusfalls.com?subject=TASTE%20ticket%20info&amp\;body=Ticket%20%23%0AName%0AHome%20Address%0APhone%0AEmail">chamber@fergusfalls.com</a>&nbsp\;by October 22.</strong></span></span></span></li>\n	<li><span style="font-size:12px\;"><span style="color:#000000\;"><span style="font-family: verdana\;"><strong>Eat a light lunch -- come hungry! Samples from 12 delicious restaurants will fill you up.</strong></span></span></span></li>\n	<li><span style="font-size:12px\;"><span style="color:#000000\;"><span style="font-family: verdana\;"><strong>Bring your ticket and your ID. Your ticket indicates your table - all seating is reserved.</strong></span></span></span></li>\n	<li><span style="font-size:12px\;"><span style="color:#000000\;"><span style="font-family: verdana\;"><strong>Your ticket # is your BID # -- make sure YOU are registered with your # (not someone else)</strong></span></span></span></li>\n	<li><span style="font-size:12px\;"><span style="color:#000000\;"><span style="font-family: verdana\;"><strong>Bring cash -- there is an ATM near Z103 Bar &amp\; Grill</strong></span></span></span></li>\n	<li><span style="font-size:12px\;"><span style="color:#000000\;"><span style="font-family: verdana\;"><strong>Carpool - the parking lot will be full</strong></span></span></span></li>\n	<li><span style="font-size:12px\;"><span style="color:#000000\;"><span style="font-family: verdana\;"><strong>Doors open at 4:45pm to the Silent Auction. Main event doors open at 5:00pm for dining.</strong></span></span></span></li>\n	<li><span style="font-size:12px\;"><span style="color:#000000\;"><span style="font-family: verdana\;"><strong>Bid on Silent Auction items\, Spin the Mystery Wheel\, buy Wall of Wine chances</strong></span></span></span></li>\n	<li><span style="font-size:12px\;"><span style="color:#000000\;"><span style="font-family: verdana\;"><strong>Eat\, drink &amp\; be merry!</strong></span></span></span></li>\n</ol>\n<span style="font-size:12px\;"><span style="color:#000000\;"><span style="font-family: verdana\;"><strong>Enjoy&nbsp\;delicious food samples&nbsp\;in addition to other wonderful &quot\;Taste of Fergus Falls &quot\; traditions such as:</strong></span></span></span>\n\n<ul>\n	<li style="margin: 0in 0in 10pt\; color: rgb(34\, 34\, 34)\; line-height: normal\;"><span style="font-size:12px\;"><span style="color:#000000\;"><span style="font-family: verdana\;"><strong>Silent Auction -- valuable items: gift baskets\, home decor\, tools\, clothing\, advertising&nbsp\;&amp\; much more!!</strong></span></span></span></li>\n	<li style="margin: 0in 0in 10pt\; color: rgb(34\, 34\, 34)\; line-height: normal\;"><span style="font-size:12px\;"><span style="color:#000000\;"><span style="font-family: verdana\;"><strong>&quot\;Chance&quot\; Gift Baskets -- buy chances to win awesome\, local gift baskets</strong></span></span></span></li>\n	<li style="margin: 0in 0in 10pt\; color: rgb(34\, 34\, 34)\; line-height: normal\;"><span style="font-size:12px\;"><span style="color:#000000\;"><span style="font-family: verdana\;"><strong><span style="font-weight: bold\; language: en-US\;">Live Auction WITH AASNESS AUCTIONEERS</span></strong></span></span></span></li>\n	<li style="margin: 0in 0in 10pt\; color: rgb(34\, 34\, 34)\; line-height: normal\;"><span style="font-size:12px\;"><span style="color:#000000\;"><span style="font-family: verdana\;"><strong>Wall of Wine &amp\;&nbsp\;Treasure Chest&nbsp\;of Beer&nbsp\;- Chances 5/$20</strong></span></span></span></li>\n	<li style="margin: 0in 0in 10pt\; color: rgb(34\, 34\, 34)\; line-height: normal\;"><span style="font-size:12px\;"><span style="color:#000000\;"><span style="font-family: verdana\;"><strong>Mystery Wheel - $20/spin -- everyone wins!</strong></span></span></span></li>\n	<li style="margin: 0in 0in 10pt\; color: rgb(34\, 34\, 34)\; line-height: normal\;"><span style="font-size:12px\;"><span style="color:#000000\;"><span style="font-family: verdana\;"><strong>Food Exhibitors include: Aquarius/Kinetico\, American Legion Post 20\, Bigwood Event Center\, Cooking with MamaSheena\, Dining Car #423\, Don Pablo&#39\;s Mexican Restaurant\, Jimmy John&#39\;s\, Perkins Restaurant &amp\; Bakery\, Service Food\, VFW Post 612\, Zens Creative Catering\, Z103 Bar &amp\; Grill. On the menu: Salmon &amp\; crackers\,&nbsp\;<strong>&nbsp\;chips &amp\; salsa\,&nbsp\;</strong><strong><strong>shrimp cocktail\, California rolls\,&nbsp\;</strong>bloody mary shooters\,&nbsp\;</strong>mango quinoa salad\,&nbsp\;<strong>chicken noodle soup\,&nbsp\;<strong>tomato basil soup\,&nbsp\;</strong>black bean chili\,&nbsp\;</strong><strong>clam chowder\,&nbsp\;</strong><strong>&nbsp\;ham &amp\; cheese sammies\, turkey sammies\, veggie sammies\, Ahi tuna tacos\,&nbsp\;</strong>steak bites\, spaghetti\, BBQ ribs\, homemade ravioli\,&nbsp\; French silk pie\, cranberry orange muffins\, caramel apple pie\, creme brulee\, </strong></span></span><strong style="color: rgb(0\, 0\, 0)\; font-family: verdana\; font-size: 12px\;"><strong>bottled water\,&nbsp\;</strong>dessert bites\,&nbsp\;</strong><span style="color: rgb(0\, 0\, 0)\;"><span style="font-family: verdana\;"><strong>&amp\; more!</strong></span></span><strong style="color: rgb(0\, 0\, 0)\; font-family: verdana\; font-size: 12px\;">&nbsp\;</strong></span></li>\n	<li style="margin: 0in 0in 10pt\; color: rgb(34\, 34\, 34)\; line-height: normal\;"><span style="font-size:12px\;"><span style="color:#000000\;"><strong style="font-family: verdana\; font-size: 11px\;">&quot\;Early Bird&quot\; Grand Prize Drawing (turn in your ticket registration by October 16) for a chance to win&nbsp\;Fergus Bucks!</strong></span></span></li>\n	<li style="margin: 0in 0in 10pt\; color: rgb(34\, 34\, 34)\; line-height: normal\;"><span style="font-size:12px\;"><a href="https://chambermaster.blob.core.windows.net/userfiles/UserFiles/chambers/314/File/TasteofFF_donations_request_20181.pdf"><span style="color:#000000\;"><strong style="font-family: verdana\; font-size: 11px\;">Click here for donation form </strong></span></a></span></li>\n</ul>\n
LOCATION:Bigwood Event Center 925 Western Ave. Fergus Falls\, MN 56537 (plenty of parking at Z103 Bar & Grill)
UID:e.314.50345
SEQUENCE:3
DTSTAMP:20260423T151333Z
URL:https://business.fergusfalls.com/events/details/13th-annual-chamber-taste-of-fergus-falls-2018-under-the-sea-50345
END:VEVENT

END:VCALENDAR
