BEGIN:VCALENDAR
VERSION:2.0
PRODID:-//ChamberMaster//Event Calendar 2.0//EN
METHOD:PUBLISH
X-PUBLISHED-TTL:P3D
REFRESH-INTERVAL:P3D
CALSCALE:GREGORIAN
BEGIN:VEVENT
DTSTART;VALUE=DATE:20191011
DTEND;VALUE=DATE:20191012
TRANSP:TRANSPARENT
X-MICROSOFT-CDO-ALLDAYEVENT:TRUE
SUMMARY:13th Annual "It's in the Bag Sale"!
DESCRIPTION:13th Annual "It's in the Bag" Sale!!!\n\nFriday & Saturday\, October 11 & 12\, 2019\n\nFill your shopping bag with items from our Kitchen\, Bath & Body\, Home & Children's departments and receive:\n\n15% OFF your entire purchase*\n\nGreat Savings! Enjoy Hot Apple Cider while you shop! \n\nRegister to Win Prizes!!\n\n*some exclusions apply\; excludes Christmas items
X-ALT-DESC;FMTTYPE=text/html:<p><span style="color:#A52A2A\;"><span style="font-size: 20px\;"><strong><span lucida="" style="line-height: 20px\; font-family: Helvetica\, Arial\, ">13th Annual &quot\;It&#39\;s in the Bag&quot\; Sale!!!</span><br font-size:="" lucida="" style="color: rgb(20\, 24\, 35)\; line-height: 20px\; font-family: Helvetica\, Arial\, " />\nFriday &amp\; Saturday\, October 11 &amp\; 12\, 2019<br font-size:="" lucida="" style="color: rgb(20\, 24\, 35)\; line-height: 20px\; font-family: Helvetica\, Arial\, " />\n<span lucida="" style="line-height: 20px\; font-family: Helvetica\, Arial\, "><span style="font-size:14px\;">Fill your shopping bag with items from our Kitchen\, Bath &amp\; Body\, Home &amp\; Children&#39\;s departments and receive:</span><br />\n15% OFF your entire purchase*<br />\nGreat Savings! Enjoy Hot Apple Cider while you shop!</span></strong></span></span><span style="color:#A52A2A\;"><span style="font-size: 20px\;"><strong><span lucida="" style="line-height: 20px\; font-family: Helvetica\, Arial\, ">&nbsp\;</span><br font-size:="" lucida="" style="color: rgb(20\, 24\, 35)\; line-height: 20px\; font-family: Helvetica\, Arial\, " />\n<span lucida="" style="line-height: 20px\; font-family: Helvetica\, Arial\, ">Register to Win Prizes!!</span></strong><br font-size:="" lucida="" style="color: rgb(20\, 24\, 35)\; line-height: 20px\; font-family: Helvetica\, Arial\, " />\n<span style="font-size:12px\;"><span lucida="" style="line-height: 20px\; font-family: Helvetica\, Arial\, ">*some exclusions apply\; excludes Christmas items</span></span></span></span></p>\n
LOCATION:The Market - Fergus Falls & Battle Lake 120 S. Union Fergus Falls\, MN 122 S. Lake Ave. Battle Lake\, Mn
UID:e.314.54809
SEQUENCE:3
DTSTAMP:20260422T222713Z
URL:https://business.fergusfalls.com/events/details/13th-annual-it-s-in-the-bag-sale-54809
END:VEVENT

END:VCALENDAR
