BEGIN:VCALENDAR
VERSION:2.0
PRODID:-//ChamberMaster//Event Calendar 2.0//EN
METHOD:PUBLISH
X-PUBLISHED-TTL:P3D
REFRESH-INTERVAL:P3D
CALSCALE:GREGORIAN
BEGIN:VEVENT
DTSTART:20191029T220000Z
DTEND:20191030T010000Z
X-MICROSOFT-CDO-ALLDAYEVENT:FALSE
SUMMARY:14th Annual Chamber TASTE of Fergus Falls 2019
DESCRIPTION:14th Annual Chamber TASTE of Fergus Falls\n\n"Trick or Eat" October 29\, 2019\n\n\n\nCostumes Encouraged! (There may be prizes...)\n\n\n\nEnjoy delicious food samples in addition to other wonderful "Taste of Fergus Falls " traditions such as:\n\n	Silent Auction: amazing gift baskets with something for everyone: pets\, home decor\, tools\, clothing\, hand-crafted items & so much more!\n	"Chance Baskets"  -- buy chances to win awesome\, local gift baskets. Use your ticket # to enter.\n	Live Auction with AASNESS AUCTIONEERS --  including MN Vikings & MN Twins memorabilia\, outdoor griddle\, YMCA membership\, airplane ride & holiday gift basket \n	Wall of Wine & Craft Beer -- buy chances to win a collection. Use your ticket # to enter.\n	Mystery Wheel -- everyone wins a prize of at least $20 value.\n\n\nFood Exhibitors include:\n\n\n	American Legion Post 30: BBQ Ribs & Chili\n	Bigwood Event Center: MN Chicken Wild Rice Soup\n	Cooking with MamaSheena: Pork Carnitas Tacos\, Cilantro Lime Chicken Tacos\, Asian Noodle Salad\n	Double A Catering: Mini Cupcakes\, Bars & Cheesecake\n	Jimmy John's: Sandwiches of all Sorts\n	LB Homes: Pumpkin Bread Pudding with Caramel Praline Crunch\, Fresh Ginger & Pumpkin Mousse\, Ghoul Juice\n	Ole & Lena's: Varieties of Yummy Pizza\n	Service Food: Smoked Salmon & Assorted Crackers\, Oreo Balls & Pumpkin Muffins w/Cream Cheese Frosting\n	VFW Post 612: Meatballs\n	Z103 Bar & Grill: Cheese Curds\n\n\nLIVE AUCTION -- 7:15pm\n\n1. Minnesota Sports Memorabilia: CHOICE: Pat Elflein autographed Vikings helmet \, Adam Thielen nameplate & cooler OR Kent Hrbek autographed baseball bat & Twins gear. From StoneL\, Tag Up\, MN Vikings & MN Twins.\n\n2. Outdoor Propane Griddle w/cover\, tools & breakfast kit   Tailgating or "glamping\," you'll be a 5-Star Chef! From Fergus Home & Hardware\n\n3. "Countdown to Christmas" Tin reindeer & ornaments\, calendar\, napkins\, 2 cookie platter certificates\, $25 gift card from Service Food.\n\n4. YMCA Annual Adult Membership. Healthy living\, youth development\, social responsibility. From the Fergus Falls Area YMCA.\n\n5. Sparklight (Cable 1) Advertising Campaign Run 200 TV ads on your choice of networks + professional production of your video.\n\n6. "Ultimate Excursion" Aerial Tour  for 2.  Experience OT Co.'s majestic beauty via airplane. From Olson's Funeral Home.\n\n7. 2 Nights Out on the Town. Handmade silk scarf\, Sterling Silver\, Platinum & Black Rhodium Necklace\, 2 Tickets to The Shaun Johnson Big Band Experience\, 2 Tickets to Mamma Mia at Chanhassen and a bottle of Toasted Head Chardonnay. From Torri's Tangles to Treasure\, Mauk Jewelers\, A Center for the Arts & Leighton Broadcasting.\n\n8. "Presidential Table" 2020 TASTE of Fergus Falls. Exclusive VIP Table\n\nfor 8 with premier d cor\, wine/cocktails\, table service & chocolates!
X-ALT-DESC;FMTTYPE=text/html:<span style="font-family: verdana\;"><span style="font-size: 14px\;"><span style="color: rgb(0\, 0\, 0)\;"><strong>14th Annual Chamber TASTE of Fergus Falls<br />\n&quot\;Trick or Eat&quot\; October 29\, 2019<br />\n<br />\nCostumes Encouraged! </strong>(There may be prizes...)</span><br />\n<br />\n<span style="text-align: left\; color: rgb(51\, 51\, 51)\; text-transform: none\; text-indent: 0px\; letter-spacing: normal\; font-style: normal\; font-variant: normal\; font-weight: 400\; text-decoration: none\; word-spacing: 0px\; white-space: normal\; orphans: 2\; -webkit-text-stroke-width: 0px\;"><span style="color: rgb(0\, 0\, 0)\;"><strong>Enjoy&nbsp\;delicious food samples&nbsp\;in addition to other wonderful &quot\;Taste of Fergus Falls &quot\; traditions such as:</strong></span></span></span></span>\n<ul style="text-align: left\; color: rgb(51\, 51\, 51)\; text-transform: none\; text-indent: 0px\; letter-spacing: normal\; font-family:\;">\n	<li style="margin: 0in 0in 10pt\; color: rgb(34\, 34\, 34)\; line-height: normal\;"><span style="font-family: verdana\;"><span style="font-size: 14px\;"><span style="color: rgb(0\, 0\, 0)\;"><strong>Silent Auction: </strong>amazing gift baskets with something for everyone: pets\, home decor\, tools\, clothing\, hand-crafted items &amp\; so much more!</span></span></span></li>\n	<li style="margin: 0in 0in 10pt\; color: rgb(34\, 34\, 34)\; line-height: normal\;"><span style="font-family: verdana\;"><span style="font-size: 14px\;"><span style="color: rgb(0\, 0\, 0)\;"><strong><span style="color: rgb(0\, 0\, 0)\;"><strong>&quot\;Chance Baskets&quot\;&nbsp\; -</strong></span></strong><span style="color: rgb(0\, 0\, 0)\;">- buy chances to win awesome\, local gift baskets. Use your ticket # to enter.</span></span></span></span></li>\n	<li style="margin: 0in 0in 10pt\; color: rgb(34\, 34\, 34)\; line-height: normal\;"><span style="font-family: verdana\;"><span style="font-size: 14px\;"><span style="color: rgb(0\, 0\, 0)\;"><strong><span style="font-weight: bold\;">Live Auction with&nbsp\;AASNESS AUCTIONEERS --</span></strong><span style="font-weight: bold\;"> <span style="display: none\;">&nbsp\;</span>including MN Vikings &amp\; MN Twins memorabilia\, outdoor griddle\, YMCA membership\, airplane ride &amp\; holiday gift basket</span><span style="display: none\;">&nbsp\;</span></span></span></span></li>\n	<li style="margin: 0in 0in 10pt\; color: rgb(34\, 34\, 34)\; line-height: normal\;"><span style="font-family: verdana\;"><span style="font-size: 14px\;"><span style="color: rgb(0\, 0\, 0)\;"><strong>Wall of Wine &amp\;&nbsp\;Craft Beer -- </strong>buy chances to win a collection. Use your ticket # to enter.</span></span></span></li>\n	<li style="margin: 0in 0in 10pt\; color: rgb(34\, 34\, 34)\; line-height: normal\;"><span style="font-family: verdana\;"><span style="font-size: 14px\;"><span style="color: rgb(0\, 0\, 0)\;"><strong>Mystery Wheel&nbsp\;-- everyone wins a prize of at least $20 value.</strong></span></span></span></li>\n</ul>\n\n<div style="margin: 0in 0in 10pt\; color: rgb(34\, 34\, 34)\; line-height: normal\;"><span style="font-family: verdana\;"><span style="font-size: 14px\;"><span style="color: rgb(0\, 0\, 0)\;"><strong>Food Exhibitors include:</strong></span></span></span></div>\n\n<ul>\n	<li style="margin: 0in 0in 10pt\; color: rgb(34\, 34\, 34)\; line-height: normal\;"><span style="font-family: verdana\;"><span style="font-size: 14px\;"><strong>American Legion Post 30: BBQ Ribs &amp\; Chili</strong></span></span></li>\n	<li style="margin: 0in 0in 10pt\; color: rgb(34\, 34\, 34)\; line-height: normal\;"><span style="font-family: verdana\;"><span style="font-size: 14px\;"><strong>Bigwood Event Center: MN Chicken Wild Rice Soup</strong></span></span></li>\n	<li style="margin: 0in 0in 10pt\; color: rgb(34\, 34\, 34)\; line-height: normal\;"><span style="font-family: verdana\;"><span style="font-size: 14px\;"><strong>Cooking with MamaSheena: Pork Carnitas Tacos\, Cilantro Lime Chicken Tacos\, Asian Noodle Salad</strong></span></span></li>\n	<li style="margin: 0in 0in 10pt\; color: rgb(34\, 34\, 34)\; line-height: normal\;"><span style="font-family: verdana\;"><span style="font-size: 14px\;"><strong>Double A Catering: Mini Cupcakes\, Bars &amp\; Cheesecake</strong></span></span></li>\n	<li style="margin: 0in 0in 10pt\; color: rgb(34\, 34\, 34)\; line-height: normal\;"><span style="font-family: verdana\;"><span style="font-size: 14px\;"><strong>Jimmy John&#39\;s: Sandwiches of all Sorts</strong></span></span></li>\n	<li style="margin: 0in 0in 10pt\; color: rgb(34\, 34\, 34)\; line-height: normal\;"><span style="font-family: verdana\;"><span style="font-size: 14px\;"><strong>LB Homes: Pumpkin Bread Pudding with Caramel Praline Crunch\, Fresh Ginger &amp\; Pumpkin Mousse\, Ghoul Juice</strong></span></span></li>\n	<li style="margin: 0in 0in 10pt\; color: rgb(34\, 34\, 34)\; line-height: normal\;"><span style="font-family: verdana\;"><span style="font-size: 14px\;"><strong>Ole &amp\; Lena&#39\;s: Varieties of Yummy Pizza</strong></span></span></li>\n	<li style="margin: 0in 0in 10pt\; color: rgb(34\, 34\, 34)\; line-height: normal\;"><span style="font-family: verdana\;"><span style="font-size: 14px\;"><span style="color: rgb(0\, 0\, 0)\;"><strong>Service Food: Smoked Salmon &amp\; Assorted Crackers\, Oreo Balls &amp\; Pumpkin Muffins w/Cream Cheese Frosting</strong></span></span></span></li>\n	<li style="margin: 0in 0in 10pt\; color: rgb(34\, 34\, 34)\; line-height: normal\;"><span style="font-family: verdana\;"><span style="font-size: 14px\;"><strong>VFW Post 612: Meatballs</strong></span></span></li>\n	<li style="margin: 0in 0in 10pt\; color: rgb(34\, 34\, 34)\; line-height: normal\;"><span style="font-family: verdana\;"><span style="font-size: 14px\;"><strong>Z103 Bar &amp\; Grill: Cheese Curds</strong></span></span></li>\n</ul>\n\n<div style="margin: 0in 0in 10pt\; color: rgb(34\, 34\, 34)\; line-height: normal\;"><span style="font-family: verdana\;"><span style="font-size: 14px\;"><strong>LIVE AUCTION -- 7:15pm</strong></span></span></div>\n\n<div style="margin: 0in 0in 10pt\; color: rgb(34\, 34\, 34)\; line-height: normal\;"><span style="font-size:12px\;"><span style="font-family:verdana\;"><span style="direction:ltr\;unicode-bidi:embed\;language:en-US\;"><span style="color:black\;">1.</span></span>&nbsp\;<strong>Minnesota Sports Memorabilia:</strong> CHOICE: Pat Elflein autographed Vikings helmet \, Adam Thielen nameplate &amp\; cooler OR Kent Hrbek autographed baseball bat &amp\; Twins gear. From StoneL\, Tag Up\, MN Vikings &amp\; MN Twins.<br />\n<span style="direction:ltr\;unicode-bidi:embed\;language:en-US\;"><span style="color:black\;">2.</span></span>&nbsp\;<strong>Outdoor Propane Griddle </strong>w/cover\, tools &amp\; breakfast kit &mdash\; Tailgating or &ldquo\;glamping\,&rdquo\; you&rsquo\;ll be a 5-Star Chef! From Fergus Home &amp\; Hardware<br />\n<span style="direction:ltr\;unicode-bidi:embed\;language:en-US\;"><span style="color:black\;">3.</span></span>&nbsp\;<strong>&ldquo\;Countdown to Christmas&rdquo\;</strong> Tin reindeer &amp\; ornaments\, calendar\, napkins\, 2 cookie platter certificates\, $25 gift card from Service Food.<br />\n<span style="direction:ltr\;unicode-bidi:embed\;language:en-US\;"><span style="color:black\;">4.</span></span>&nbsp\;<strong>YMCA Annual Adult Membership<span style="font-weight:bold\;language:en-US\;">. </span></strong>Healthy living\, youth development\,&nbsp\;social responsibility. From the Fergus Falls Area YMCA.<br />\n<span style="direction:ltr\;unicode-bidi:embed\;language:en-US\;"><span style="color:black\;">5.</span></span>&nbsp\;<strong>Sparklight (Cable 1) Advertising Campaign</strong>&mdash\;Run 200 TV ads on your choice of networks + professional production of your video.<br />\n<span style="direction:ltr\;unicode-bidi:embed\;language:en-US\;"><span style="color:black\;">6.</span></span>&nbsp\;<strong>&ldquo\;Ultimate Excursion&rdquo\;</strong> Aerial Tour&nbsp\; for 2<span style="font-weight:bold\;language:en-US\;">.</span>&nbsp\; Experience OT Co.&rsquo\;s majestic beauty via airplane. From Olson&rsquo\;s Funeral Home.<br />\n7. <strong>2 Nights Out on the Town.</strong> Handmade silk scarf\, Sterling Silver\, Platinum &amp\; Black Rhodium Necklace\, 2 Tickets to The Shaun Johnson Big Band Experience\, 2 Tickets to Mamma Mia at Chanhassen and a bottle of Toasted Head Chardonnay. From Torri&#39\;s Tangles to Treasure\, Mauk Jewelers\, A Center for the Arts &amp\; Leighton Broadcasting.<br />\n<span style="direction:ltr\;unicode-bidi:embed\;language:en-US\;"><span style="color:black\;">8.</span></span><strong>&nbsp\;&ldquo\;Presidential Table&rdquo\; </strong>2020 TASTE of Fergus Falls. Exclusive VIP Table<br />\nfor 8 with premier d&eacute\;cor\, wine/cocktails\, table service &amp\; chocolates!</span></span><br />\n&nbsp\;</div>\n
LOCATION:Bigwood Event Center 925 Western Ave. Fergus Falls\, MN 56537
UID:e.314.54545
SEQUENCE:3
DTSTAMP:20260422T222851Z
URL:https://business.fergusfalls.com/events/details/14th-annual-chamber-taste-of-fergus-falls-2019-54545
END:VEVENT

END:VCALENDAR
