BEGIN:VCALENDAR
VERSION:2.0
PRODID:-//ChamberMaster//Event Calendar 2.0//EN
METHOD:PUBLISH
X-PUBLISHED-TTL:P3D
REFRESH-INTERVAL:P3D
CALSCALE:GREGORIAN
BEGIN:VEVENT
DTSTART:20170218T163000Z
DTEND:20170218T193000Z
X-MICROSOFT-CDO-ALLDAYEVENT:FALSE
SUMMARY:14th Annual Someplace Safe Tea Fundraiser
DESCRIPTION:10:30am Doors open for Silent Auction Bidding 11:30am Program\, Luncheon & Tea Featuring the Fergus Falls School of Dance & Fashion Show
X-ALT-DESC;FMTTYPE=text/html:10:30am Doors open for Silent Auction Bidding 11:30am Program\, Luncheon &amp\; Tea Featuring the Fergus Falls School of Dance &amp\; Fashion Show
LOCATION:M-State\, Legacy Hall\, Fergus Falls
UID:e.314.37587
SEQUENCE:3
DTSTAMP:20260425T003253Z
URL:https://business.fergusfalls.com/events/details/14th-annual-someplace-safe-tea-fundraiser-02-18-2017-37587
END:VEVENT

END:VCALENDAR
