BEGIN:VCALENDAR
VERSION:2.0
PRODID:-//ChamberMaster//Event Calendar 2.0//EN
METHOD:PUBLISH
X-PUBLISHED-TTL:P3D
REFRESH-INTERVAL:P3D
CALSCALE:GREGORIAN
BEGIN:VEVENT
DTSTART:20160608T160000Z
DTEND:20160608T180000Z
X-MICROSOFT-CDO-ALLDAYEVENT:FALSE
SUMMARY:15th Annual Salad Luncheon and Bake Sale
DESCRIPTION:Enjoy a variety of salads\, fruits and various bake sale items to include Scandinavian goodies!
X-ALT-DESC;FMTTYPE=text/html:Enjoy a variety of salads\, fruits and various bake sale items to include Scandinavian goodies!
LOCATION:Bethlehem Lutheran Church 102 W. Junius Avenue Fergus Falls\, MN
UID:e.314.32665
SEQUENCE:3
DTSTAMP:20260425T150137Z
URL:https://business.fergusfalls.com/events/details/15th-annual-salad-luncheon-and-bake-sale-06-08-2016-32665
END:VEVENT

END:VCALENDAR
