BEGIN:VCALENDAR
VERSION:2.0
PRODID:-//ChamberMaster//Event Calendar 2.0//EN
METHOD:PUBLISH
X-PUBLISHED-TTL:P3D
REFRESH-INTERVAL:P3D
CALSCALE:GREGORIAN
BEGIN:VEVENT
DTSTART:20180217T163000Z
DTEND:20180217T190000Z
X-MICROSOFT-CDO-ALLDAYEVENT:FALSE
SUMMARY:15th ANNUAL SOMEPLACE SAFE TEA FUNDRAISEER
DESCRIPTION:Silent Auction\, Program\, Luncheon & Tea\n\nFeaturing performances by Fergus Falls School of Dance and\n\nSomeplace Safe Fashion Show
X-ALT-DESC;FMTTYPE=text/html:<span style="font-size: 18px\;"><span style="font-family: comic sans ms\;"><span style="font-family: arial\,helvetica\,sans-serif\;">Silent Auction\, Program\, Luncheon &amp\; Tea<br />\nFeaturing performances by Fergus Falls School of Dance and<br />\nSomeplace Safe Fashion Show</span></span></span><br />\n<br />\n<br />\n&nbsp\;
LOCATION:M-State\, Legacy Hall Fergus Falls
UID:e.314.43635
SEQUENCE:3
DTSTAMP:20260424T025359Z
URL:https://business.fergusfalls.com/events/details/15th-annual-someplace-safe-tea-fundraiseer-43635
END:VEVENT

END:VCALENDAR
