BEGIN:VCALENDAR
VERSION:2.0
PRODID:-//ChamberMaster//Event Calendar 2.0//EN
METHOD:PUBLISH
X-PUBLISHED-TTL:P3D
REFRESH-INTERVAL:P3D
CALSCALE:GREGORIAN
BEGIN:VEVENT
DTSTART:20180714T160000Z
DTEND:20180714T223000Z
X-MICROSOFT-CDO-ALLDAYEVENT:FALSE
SUMMARY:15th Annual Wendell Lions RIDE FOR SIGHT
DESCRIPTION:15th Annual Wendell Lions RIDE FOR SIGHT\n\nMotorcycle Run\n\nRegistration includes meal\, discount for band admission\, free drink and other prize drawings after the ride.\n\nFestivities all weekend long: softball tournament\, beer gardens\, food stand.\n\nDance featuring REDLINE
X-ALT-DESC;FMTTYPE=text/html:15th Annual Wendell Lions RIDE FOR SIGHT<br />\nMotorcycle Run<br />\nRegistration includes meal\, discount for band admission\, free drink and other prize drawings after the ride.<br />\nFestivities all weekend long: softball tournament\, beer gardens\, food stand.<br />\nDance featuring REDLINE
LOCATION:Wendell\, MN
UID:e.314.50015
SEQUENCE:3
DTSTAMP:20260423T195907Z
URL:https://business.fergusfalls.com/events/details/15th-annual-wendell-lions-ride-for-sight-50015
END:VEVENT

END:VCALENDAR
