BEGIN:VCALENDAR
VERSION:2.0
PRODID:-//ChamberMaster//Event Calendar 2.0//EN
METHOD:PUBLISH
X-PUBLISHED-TTL:P3D
REFRESH-INTERVAL:P3D
CALSCALE:GREGORIAN
BEGIN:VEVENT
DTSTART:20190216T163000Z
DTEND:20190216T190000Z
X-MICROSOFT-CDO-ALLDAYEVENT:FALSE
SUMMARY:16th Annual Someplace Safe Tea Fundraiser
DESCRIPTION:10:30 am  Doors Open for Silent Auction Bidding\n\n11:30 am  Program\, Tea Luncheon & Entertainment\n\nFeaturing the Fergus Falls School of Dance & Fashion Show by The bric
X-ALT-DESC;FMTTYPE=text/html:10:30&nbsp\;am &nbsp\;Doors Open for Silent Auction Bidding<br />\n11:30 am&nbsp\;&nbsp\;Program\, Tea Luncheon &amp\; Entertainment<br />\nFeaturing the Fergus Falls School of Dance &amp\; Fashion Show by The bric
LOCATION:M-State\, Legacy Hall\, Fergus Falls
UID:e.314.52374
SEQUENCE:3
DTSTAMP:20260423T093313Z
URL:https://business.fergusfalls.com/events/details/16th-annual-someplace-safe-tea-fundraiser-52374
END:VEVENT

END:VCALENDAR
