BEGIN:VCALENDAR
VERSION:2.0
PRODID:-//ChamberMaster//Event Calendar 2.0//EN
METHOD:PUBLISH
X-PUBLISHED-TTL:P3D
REFRESH-INTERVAL:P3D
CALSCALE:GREGORIAN
BEGIN:VEVENT
DTSTART:20200215T163000Z
DTEND:20200215T190000Z
X-MICROSOFT-CDO-ALLDAYEVENT:FALSE
SUMMARY:17th Annual Tea Fundraiser
DESCRIPTION:Join Someplace Safe for the 17th Annual Tea Fundraiser on Saturday\, Feb. 15th! Doors open at 10:30 am for Silent Auction Bidding. Program\, Luncheon and Tea begins at 11:30 am. Entertainment by the Fergus Falls School of Dance. Tickets may be purchased at Someplace in Fergus Falls (106 South Union Ave) or online at: https://events.idonate.com/ffteafundraiser.
X-ALT-DESC;FMTTYPE=text/html:Join Someplace Safe for the 17th Annual Tea Fundraiser on Saturday\, Feb. 15th! Doors open at 10:30 am for Silent Auction Bidding. Program\, Luncheon and Tea begins at 11:30 am. Entertainment by the Fergus Falls School of Dance. Tickets may be purchased at Someplace in Fergus Falls (106 South Union Ave) or online at: https://events.idonate.com/ffteafundraiser.
LOCATION:M-State\, Legacy Hall\, Fergus Falls
UID:e.314.56210
SEQUENCE:3
DTSTAMP:20260422T142441Z
URL:https://business.fergusfalls.com/events/details/17th-annual-tea-fundraiser-56210
END:VEVENT

END:VCALENDAR
