BEGIN:VCALENDAR
VERSION:2.0
PRODID:-//ChamberMaster//Event Calendar 2.0//EN
METHOD:PUBLISH
X-PUBLISHED-TTL:P3D
REFRESH-INTERVAL:P3D
CALSCALE:GREGORIAN
BEGIN:VEVENT
DTSTART:20210930T160000Z
DTEND:20210930T230000Z
X-MICROSOFT-CDO-ALLDAYEVENT:FALSE
SUMMARY:1st Anniversary Celebration
DESCRIPTION:Join us as we celebrate the first anniversary of the opening of our downtown retail location. Just one short year ago\, on September 30\, 2020 we flung open our doors\, donned our masks\, and welcomed the community. And we've had one heck of a year. The community has been super supportive of our efforts to bring a unique retail shopping experience to Fergus Falls. \n\n\n\nWhat started as a seasonal market for artists and makers to sell their goods during the holiday season grew over time and became Creative Handmade Goods\, a full time maker's market featuring over 40 local makers from potters to painters\, weavers to woodworker\, and many mediums in between. You will find handcrafted items for your home\, unique gifts\, one-of-a-kind pieces in our shop. Our maker partners are continually updating our stock and you will always find something new. \n\n\n\nIn addition to being home to Creative Handmade Goods\, we also host SoapWerks Naturals -- a locally made line of soaps\, lotions\, potions\, skin care\, and bath and body products all produced right here in downtown Fergus Falls. You will also find a unique selection of clothing from Rustic Lilly Boutique within our space.\n\n\n\nWe are happy to host and help grow a significant number of artists\, artisans\, and small businesses and bring their talents to the downtown shopping scene. Join us on Thursday\, September 30th from 11am to 6pm for all the fun. \n\n\n\nCreative Handmade Goods\n\n216 West Lincoln Ave\, Fergus Falls\, MN\n\n\n\nWe're featuring:\n\n- Thank you gift bags for the first 50 people through the door\n\n- Hourly Drawings for Creative Handmade Goods Gift Cards at 2pm\, 3pm\, 4pm and 5pm (do not need to be present to win)\n\n- Celebratory cupcakes from Peney Cakes - we picked some awesome flavors\, these are not to be missed. \n\n- 20% off storewide \n\n- Bonus Bubbles awarded to all loyalty program members (purchase required).Not yet a member? Sign up that day and still get the Bonus Bubbles. \n\n\n\nIt all starts at 11am on Thursday 9/30.
X-ALT-DESC;FMTTYPE=text/html:Join us as we celebrate the first anniversary of the opening of our downtown retail location. Just one short year ago\, on September 30\, 2020 we flung open our doors\, donned our masks\, and welcomed the community. And we&#39\;ve had one heck of a year. The community has been super supportive of our efforts to bring a unique retail shopping experience to Fergus Falls.&nbsp\;<br />\n<br />\nWhat started as a seasonal market for artists and makers to sell their goods during the holiday season grew over time and became Creative Handmade Goods\, a full time maker&#39\;s market featuring over 40 local makers from potters to painters\, weavers to woodworker\, and many mediums in between. You will find handcrafted items for your home\, unique gifts\, one-of-a-kind pieces in our shop. Our maker partners are continually updating our stock and you will always find something new.&nbsp\;<br />\n<br />\nIn addition to being home to Creative Handmade Goods\, we also host SoapWerks Naturals -- a locally made line of soaps\, lotions\, potions\, skin care\, and bath and body products all produced right here in downtown Fergus Falls. You will also find a unique selection of clothing from Rustic Lilly Boutique within our space.<br />\n<br />\nWe are happy to host and help grow a significant number of artists\, artisans\, and small businesses and bring their talents to the downtown shopping scene. Join us on Thursday\, September 30th from 11am to 6pm for all the fun.&nbsp\;<br />\n<br />\nCreative Handmade Goods<br />\n216 West Lincoln Ave\, Fergus Falls\, MN<br />\n<br />\nWe&#39\;re featuring:<br />\n- Thank you gift bags for the first 50 people through the door<br />\n- Hourly Drawings for Creative Handmade Goods Gift Cards at 2pm\, 3pm\, 4pm and 5pm (do not need to be present to win)<br />\n- Celebratory cupcakes from Peney Cakes - we picked some awesome flavors\, these are not to be missed.&nbsp\;<br />\n- 20% off storewide&nbsp\;<br />\n- Bonus Bubbles awarded to all loyalty program members (purchase required).Not yet a member? Sign up that day and still get the Bonus Bubbles.&nbsp\;<br />\n<br />\nIt all starts at 11am on Thursday 9/30.&nbsp\;
LOCATION:Creative Handmade Goods 216 West Lincoln Ave Fergus Falls\, MN 56537
UID:e.314.63804
SEQUENCE:3
DTSTAMP:20260421T083021Z
URL:https://business.fergusfalls.com/events/details/1st-anniversary-celebration-63804
END:VEVENT

END:VCALENDAR
