BEGIN:VCALENDAR
VERSION:2.0
PRODID:-//ChamberMaster//Event Calendar 2.0//EN
METHOD:PUBLISH
X-PUBLISHED-TTL:P3D
REFRESH-INTERVAL:P3D
CALSCALE:GREGORIAN
BEGIN:VEVENT
DTSTART:20160326T180000Z
DTEND:20160326T200000Z
X-MICROSOFT-CDO-ALLDAYEVENT:FALSE
SUMMARY:1st Annual Easter "GOLF BALL" Hunt!
DESCRIPTION:1st Annual 'Easter "GOLF BALL" Hunt'!!!!\n\nThis coming Saturday\, March 26th\,\n\n  1:00pm - 3:00pm.\n\nRain or Shine!\n\n***Everyone Welcome!***\n\nAll Ages Members & Non-Members Rain or Shine\n\nMarch Pro Shop hours will be 9:00am -5:00pm
X-ALT-DESC;FMTTYPE=text/html:<div style="color: gray\;">\n<p><font size="3"><font color="#000000"><span style="font-family: &quot\;Tahoma&quot\;\,sans-serif\;">1st Annual &#39\;Easter &quot\;GOLF BALL&quot\; Hunt&#39\;!!!!</span><o:p></o:p></font></font></p>\n\n<p><font size="3"><font color="#000000"><strong><span style="font-family: &quot\;Tahoma&quot\;\,sans-serif\;">This coming Saturday\, March 26th\,<br />\n&nbsp\; 1:00pm - 3:00pm.<br />\nRain or Shine!<br />\n***Everyone Welcome!***<br />\nAll Ages Members &amp\; Non-Members Rain or Shine</span></strong></font></font></p>\n\n<p><font size="3"><font color="#000000"><strong><span style="font-family: &quot\;Tahoma&quot\;\,sans-serif\;">March Pro Shop hours will be 9:00am -5:00pm</span></strong></font></font><br />\n<br />\n<br />\n<font size="3"><font color="#000000"><o:p></o:p></font></font></p>\n</div>\n
LOCATION:Pebble Lake Golf Club 1918 Pebble Lake Golf Dr
UID:e.314.32064
SEQUENCE:3
DTSTAMP:20260425T181526Z
URL:https://business.fergusfalls.com/events/details/1st-annual-easter-golf-ball-hunt-03-26-2016-32064
END:VEVENT

END:VCALENDAR
