BEGIN:VCALENDAR
VERSION:2.0
PRODID:-//ChamberMaster//Event Calendar 2.0//EN
METHOD:PUBLISH
X-PUBLISHED-TTL:P3D
REFRESH-INTERVAL:P3D
CALSCALE:GREGORIAN
BEGIN:VEVENT
DTSTART:20160514T133000Z
DTEND:20160514T170000Z
X-MICROSOFT-CDO-ALLDAYEVENT:FALSE
SUMMARY:2016 Special Olympics Fun Run
DESCRIPTION:The 2016 S.O. Fun Run is ready to go! This year will see a few changes:\n\n\n\n- This year's run will be held on the M-State campus!\n\n- We'll have medals for 1st\, 2nd\, and 3rd place for the 1 mile and 5K runs\n\n- We'll have a photobooth available where you can have your picture taken with some of our athletes for a $1 donation!\n\n\n\nVisit www.sofunrun.com and get registered! Register by April 29th to guarantee a shirt! Registrations received after April 29 are not guaranteed a shirt\, although we will have extras on hand and hope to get a shirt to every participant.\n\n\n\nEarly packet pickup is available Friday evening from 5-7pm at The Spot in downtown Fergus Falls.\n\n\n\nPlease be at M-State by 8am on race day. The schedule:\n\n...\n\n8:30 am - zer0k\n\n8:45 am - 1 mile run/walk\n\n9:15 am - 5k
X-ALT-DESC;FMTTYPE=text/html:<div class="text_exposed_root text_exposed" id="id_56c1edc309db97463966181"><span class="fsl">The 2016 S.O. Fun Run is ready to go! This year will see a few changes:<br />\n<br />\n- This year&#39\;s run will be held on the M-State campus!<br />\n- We&#39\;ll have medals for 1st\, 2nd\, and 3rd place for the 1 mile and 5K runs<br />\n- We&#39\;ll have a photobooth available where you can have your picture taken with some of our athletes for a $1 donation!<br />\n<br />\nVisit <a href="http://l.facebook.com/l.php?u=http%3A%2F%2Fwww.sofunrun.com%2F&amp\;h=kAQHIO4ct&amp\;enc=AZOPUGa9P_EfpUa1KXexoztXER3IWz6XiGvj5M2HpuOU_pb7vW05xv8CtZNtdTa3aXU&amp\;s=1" rel="nofollow nofollow" target="_blank"><font color="#0066cc">www.sofunrun.com</font></a> and get registered! Register by April 29th to guarantee a shirt! Registrations received after April 29 are not guaranteed a shirt\, although we will have extras on hand and hope to get a shirt to every participant.<br />\n<br />\nEarly packet pickup is available Friday evening from 5-7pm at The Spot in downtown Fergus Falls.<br />\n<br />\nPlease be at M-State by 8am on race day. The schedule:<br />\n<span class="text_exposed_hide">...</span><br />\n<span class="text_exposed_show">8:30 am - zer0k<br />\n8:45 am - 1 mile run/walk<br />\n9:15 am - 5k</span></span></div>\n
LOCATION:Fergus Falls\, Minnesota
UID:e.314.31321
SEQUENCE:3
DTSTAMP:20260425T162843Z
URL:https://business.fergusfalls.com/events/details/2016-special-olympics-fun-run-05-14-2016-31321
END:VEVENT

END:VCALENDAR
