BEGIN:VCALENDAR
VERSION:2.0
PRODID:-//ChamberMaster//Event Calendar 2.0//EN
METHOD:PUBLISH
X-PUBLISHED-TTL:P3D
REFRESH-INTERVAL:P3D
CALSCALE:GREGORIAN
BEGIN:VEVENT
DTSTART:20170201T140000Z
DTEND:20170201T220000Z
X-MICROSOFT-CDO-ALLDAYEVENT:FALSE
SUMMARY:2017 Crop and Forage Show
DESCRIPTION:Attendees are able to browse booths featuring ag-related products/services and attend presentations by knowledgeable speakers. There are also open and youth class competitions available for those who want to participate in grain and forage contests
X-ALT-DESC;FMTTYPE=text/html:<span style="color: rgb(136\, 136\, 136)\; text-transform: none\; text-indent: 0px\; letter-spacing: normal\; font-family: Oswald\, Arial\; font-size: 17.33px\; font-style: normal\; font-weight: 300\; word-spacing: 0px\; float: none\; display: inline !important\; white-space: normal\; orphans: 2\; widows: 2\; background-color: rgba(255\, 255\, 255\, 0.74902)\; font-variant-ligatures: normal\; font-variant-caps: normal\; -webkit-text-stroke-width: 0px\;">Attendees are able to browse booths featuring ag-related products/services and attend presentations by knowledgeable speakers. There are also open and youth class competitions available for those who want to participate in grain and forage contests</span>
LOCATION:Bigwood Event Center
UID:e.314.37261
SEQUENCE:3
DTSTAMP:20260425T002820Z
URL:https://business.fergusfalls.com/events/details/2017-crop-and-forage-show-37261
END:VEVENT

END:VCALENDAR
