BEGIN:VCALENDAR
VERSION:2.0
PRODID:-//ChamberMaster//Event Calendar 2.0//EN
METHOD:PUBLISH
X-PUBLISHED-TTL:P3D
REFRESH-INTERVAL:P3D
CALSCALE:GREGORIAN
BEGIN:VEVENT
DTSTART:20170305T190000Z
DTEND:20170305T220000Z
X-MICROSOFT-CDO-ALLDAYEVENT:FALSE
SUMMARY:2017 Lakes Area Bridal Expo
DESCRIPTION:2017 Lakes Area Bridal Expo at Thumper Pond Resort In Ottertail Mn
X-ALT-DESC;FMTTYPE=text/html:2017 Lakes Area Bridal Expo at Thumper Pond Resort In Ottertail Mn
LOCATION:Thumper Pond Resort in Ottertail MN 300 Thumper Lodge Rd\, Ottertail\, Minnesota
UID:e.314.38096
SEQUENCE:3
DTSTAMP:20260424T210223Z
URL:https://business.fergusfalls.com/events/details/2017-lakes-area-bridal-expo-38096
END:VEVENT

END:VCALENDAR
