BEGIN:VCALENDAR
VERSION:2.0
PRODID:-//ChamberMaster//Event Calendar 2.0//EN
METHOD:PUBLISH
X-PUBLISHED-TTL:P3D
REFRESH-INTERVAL:P3D
CALSCALE:GREGORIAN
BEGIN:VEVENT
DTSTART:20171018T000000Z
DTEND:20171018T013000Z
X-MICROSOFT-CDO-ALLDAYEVENT:FALSE
SUMMARY:2017 Minnestoa Book Award Winners Tour
DESCRIPTION:Six award-winning Minnesota Authors in one night in Fergus Falls! Join authors Allen Eskens\, Brian Farrey\, Peter Geye\, Shawn Otto\, Cheri Register\, and Kao Kalia Yang for an evening of reading and conversation. Free and open to the public. Refreshments provided by the Friends of Fergus Falls Public Library. Visit ffpubliclibrary.org/programs-for-adults for more information.
X-ALT-DESC;FMTTYPE=text/html:Six award-winning Minnesota Authors in one night in Fergus Falls! Join authors Allen Eskens\, Brian Farrey\, Peter Geye\, Shawn Otto\, Cheri Register\, and Kao Kalia Yang for an evening of reading and conversation. Free and open to the public. Refreshments provided by the Friends of Fergus Falls Public Library. Visit ffpubliclibrary.org/programs-for-adults for more information.
LOCATION:Minnesota State Community and Technical College\, Legacy Hall\, 1414 College Way\, Fergus Falls\, MN.
UID:e.314.42651
SEQUENCE:3
DTSTAMP:20260424T092813Z
URL:https://business.fergusfalls.com/events/details/2017-minnestoa-book-award-winners-tour-42651
END:VEVENT

END:VCALENDAR
