BEGIN:VCALENDAR
VERSION:2.0
PRODID:-//ChamberMaster//Event Calendar 2.0//EN
METHOD:PUBLISH
X-PUBLISHED-TTL:P3D
REFRESH-INTERVAL:P3D
CALSCALE:GREGORIAN
BEGIN:VEVENT
DTSTART:20181011T133000Z
DTEND:20181011T183000Z
X-MICROSOFT-CDO-ALLDAYEVENT:FALSE
SUMMARY:2018 Fergus Falls Area College and Career Expo
DESCRIPTION:2018 College and Career Expo\n\n\n\nConnect with your future workforce 1000+ high school students from Fergus Falls and the region. \n\n\n\nOptions: \n\n	Host a student tour at your business\n	Host a "trade show" booth at Kennedy gymnasium. Click Here for Vendor Registration Form\n\nFor more information contact:\n\n\n\nLisa Workman - Fergus Falls Area Chamber of Commerce 218-736-6951\n\nMegan Shubitz - American National Bank - mshubitz@anbmn.com\n\n\n\nThere is no charge to host a booth.  Event sponsorship donations welcome.
X-ALT-DESC;FMTTYPE=text/html:<span style="color: rgb(128\, 0\, 0)\;"><strong><span style="font-size: 24px\;">2018 College and Career Expo</span></strong></span><br />\n<br />\n<span style="font-size: 18px\;">Connect with your future workforce 1000+ high school students from Fergus Falls and the region. </span><br />\n<br />\n<strong>Options: </strong>\n<ul>\n	<li>Host a student tour at your business</li>\n	<li>Host a &quot\;trade show&quot\; booth at Kennedy gymnasium. <strong><a href="https://chambermaster.blob.core.windows.net/userfiles/UserFiles/chambers/314/File/2018FergusFallsCareerExpoVenderRegistrationForm.pdf">Click Here for Vendor Registration Form</a></strong></li>\n</ul>\n<strong>For more information contact</strong>:<br />\n<br />\nLisa Workman -&nbsp\;Fergus Falls Area Chamber of Commerce 218-736-6951<br />\nMegan Shubitz - American National Bank - <a href="mailto:mshubitz@anbmn.com">mshubitz@anbmn.com</a><br />\n<br />\nThere is no charge to host a booth.&nbsp\; Event sponsorship donations welcome.
LOCATION:Kennedy Secondary School Trade Show: Gold Gym 601 Randolph Ave. Fergus Falls\, MN 56537
UID:e.314.50349
SEQUENCE:3
DTSTAMP:20260423T151209Z
URL:https://business.fergusfalls.com/events/details/2018-fergus-falls-area-college-and-career-expo-50349
END:VEVENT

END:VCALENDAR
