BEGIN:VCALENDAR
VERSION:2.0
PRODID:-//ChamberMaster//Event Calendar 2.0//EN
METHOD:PUBLISH
X-PUBLISHED-TTL:P3D
REFRESH-INTERVAL:P3D
CALSCALE:GREGORIAN
BEGIN:VEVENT
DTSTART:20180602T123000Z
DTEND:20180602T170000Z
X-MICROSOFT-CDO-ALLDAYEVENT:FALSE
SUMMARY:2018 Lake Region Run
DESCRIPTION:The Lake Region Run is a half marathon run\, 5k run/walk\, and 1-mile run/walk. All proceeds from this event are given to Lake Region Healthcare's Cancer Care and Research Center.
X-ALT-DESC;FMTTYPE=text/html:<span class="_4n-j _fbReactionComponent__eventDetailsContentTags fsl" data-testid="event-permalink-details">The Lake Region Run is a half marathon run\, 5k run/walk\, and 1-mile run/walk. All proceeds from this event are given to Lake Region Healthcare&#39\;s Cancer Care and Research Center.</span>
LOCATION:Fergus Falls Community Arena
UID:e.314.47434
SEQUENCE:3
DTSTAMP:20260423T212523Z
URL:https://business.fergusfalls.com/events/details/2018-lake-region-run-47434
END:VEVENT

END:VCALENDAR
