BEGIN:VCALENDAR
VERSION:2.0
PRODID:-//ChamberMaster//Event Calendar 2.0//EN
METHOD:PUBLISH
X-PUBLISHED-TTL:P3D
REFRESH-INTERVAL:P3D
CALSCALE:GREGORIAN
BEGIN:VEVENT
DTSTART;VALUE=DATE:20180713
DTEND;VALUE=DATE:20180714
TRANSP:TRANSPARENT
X-MICROSOFT-CDO-ALLDAYEVENT:TRUE
SUMMARY:2018 PLGC Legends Golf Tournament
DESCRIPTION:The 2018 PLGC Legends Golf Tournament will be held on Friday\, July 13. Registration is from 10:30-11:30\, with a shotgun start at noon. Social hour is from 5-6\, dinner served at 6 and a short program to follow. Proceeds benefit the golf course for course improvements and the 544 Education Foundation for support of projects and programs in the Fergus Falls School District.
X-ALT-DESC;FMTTYPE=text/html:The 2018 PLGC Legends Golf Tournament will be held on Friday\, July 13. Registration is from 10:30-11:30\, with a shotgun start at noon. Social hour is from 5-6\, dinner served at 6 and a short program to follow. Proceeds benefit the golf course for course improvements and the 544 Education Foundation for support of projects and programs in the Fergus Falls School District.<br />\n&nbsp\;
LOCATION:Pebble Lake Golf Club Fergus Falls\, MN
UID:e.314.46362
SEQUENCE:3
DTSTAMP:20260423T195740Z
URL:https://business.fergusfalls.com/events/details/2018-plgc-legends-golf-tournament-46362
END:VEVENT

END:VCALENDAR
