BEGIN:VCALENDAR
VERSION:2.0
PRODID:-//ChamberMaster//Event Calendar 2.0//EN
METHOD:PUBLISH
X-PUBLISHED-TTL:P3D
REFRESH-INTERVAL:P3D
CALSCALE:GREGORIAN
BEGIN:VEVENT
DTSTART:20180614T170000Z
DTEND:20180615T010000Z
X-MICROSOFT-CDO-ALLDAYEVENT:FALSE
SUMMARY:2018 Rotary Open - PLGC
DESCRIPTION:2018 Rotary Open \n\n \n\n\n\n\n\n18-hole (Noon registration) and 9-hole (2 PM Registration)\n\n\n\n18-hole\n\n\n\nIndividual Package - $120 per person\n\nGreen Fees\, Cart Rental\, Meal Ticket\, Raffle Ticket\, Prizes\n\n\n\nBK Soby Package - $530 (value of $600)\n\n4 Golf Entry Fees\, Cart Rental\, 4 Meal Tickets\, 4 Raffle Tickets\, 4 Team Mulligans\, 4 Putting Contest Entries\, 4 Bean Bag Toss Contest Entries\, Prizes\n\n\n\nPaul Harris Package - $630 (value of $700)\n\nAll items in the BK Sony Package and Hole Sponsorship\n\n\n\n9-hole\n\n\n\nIndividual Package - $60 per person\n\nGreen Fees\, Cart Rental\, Meal Ticket\, Raffle Ticket\, Prizes\n\n\n\nInteract Package - $290 (value of $360)\n\n4 Golf Entry Fees\, Cart Rental\, 4 Meal Tickets\, 4 Raffle Tickets\, 4 Team Mulligans\, 4 Putting Contest Entries\, 4 Bean Bag Toss Contest Entries\, Prizes\n\n\n\nRotoract Package - $390 (value of $460)\n\nAll items in the Interact Package and Hole Sponsorship\n\n\n\nA registration form will soon be available to download. Until then\, contact Dave Schneeberger for more information at 218-739-0210 or david.schneeberger@bankofthewest.com.
X-ALT-DESC;FMTTYPE=text/html:<div class="_4l8p _5dw9 _5dwa _4-u3">\n<div class="_3s3-"><strong>2018 Rotary Open </strong><br />\n&nbsp\;</div>\n</div>\n\n<div class="_62hs _4-u3">\n<div class="_63es">\n<div class="_63eu _63ev">\n<div class="_63ew"><span>18-hole (Noon registration) and 9-hole (2 PM Registration)<br />\n<br />\n18-hole<br />\n<br />\nIndividual Package - $120 per person<br />\nGreen Fees\, Cart Rental\, Meal Ticket\, Raffle Ticket\, Prizes<br />\n<br />\nBK Soby Package - $530 (value of $600)<br />\n4 Golf Entry Fees\, Cart Rental\, 4 Meal Tickets\, 4 Raffle Tickets\, 4 Team Mulligans\, 4 Putting Contest Entries\, 4 Bean Bag Toss Contest Entries\, Prizes<br />\n<br />\nPaul Harris Package - $630 (value of $700)<br />\nAll items in the BK Sony Package and Hole Sponsorship<br />\n<br />\n9-hole<br />\n<br />\nIndividual Package - $60 per person<br />\nGreen Fees\, Cart Rental\, Meal Ticket\, Raffle Ticket\, Prizes<br />\n<br />\nInteract Package - $290 (value of $360)<br />\n4 Golf Entry Fees\, Cart Rental\, 4 Meal Tickets\, 4 Raffle Tickets\, 4 Team Mulligans\, 4 Putting Contest Entries\, 4 Bean Bag Toss Contest Entries\, Prizes<br />\n<br />\nRotoract Package - $390 (value of $460)<br />\nAll items in the Interact Package and Hole Sponsorship<br />\n<br />\nA registration form will soon be available to download. Until then\, contact Dave Schneeberger for more information at 218-739-0210 or david.schneeberger@bankofthewest.com.</span></div>\n</div>\n</div>\n</div>\n
LOCATION:Pebble Lake Golf Club 1918 Pebble Lake Golf Dr.
UID:e.314.48846
SEQUENCE:3
DTSTAMP:20260423T211647Z
URL:https://business.fergusfalls.com/events/details/2018-rotary-open-plgc-48846
END:VEVENT

END:VCALENDAR
