BEGIN:VCALENDAR
VERSION:2.0
PRODID:-//ChamberMaster//Event Calendar 2.0//EN
METHOD:PUBLISH
X-PUBLISHED-TTL:P3D
REFRESH-INTERVAL:P3D
CALSCALE:GREGORIAN
BEGIN:VEVENT
DTSTART:20181201T210000Z
DTEND:20181201T223000Z
X-MICROSOFT-CDO-ALLDAYEVENT:FALSE
SUMMARY:2018 Service of Remembrance
DESCRIPTION:A time to pay tribute to those we have loved and lost. Whether your loss is new or decades old\, whether we've served your family or not\, we welcome you to enjoy this special time of music\, message and reflection. A memorial ornament will be given to each family represented. Refreshments to follow. All are welcome to attend.
X-ALT-DESC;FMTTYPE=text/html:A time to pay tribute to those we have loved and lost. Whether your loss is new or decades old\, whether we&rsquo\;ve served your family or not\, we welcome you to enjoy this special time of music\, message and reflection. A memorial ornament will be given to each family represented. Refreshments to follow. All are welcome to attend.
LOCATION:Olson Funeral Home
UID:e.314.51630
SEQUENCE:3
DTSTAMP:20260423T122127Z
URL:https://business.fergusfalls.com/events/details/2018-service-of-remembrance-51630
END:VEVENT

END:VCALENDAR
