BEGIN:VCALENDAR
VERSION:2.0
PRODID:-//ChamberMaster//Event Calendar 2.0//EN
METHOD:PUBLISH
X-PUBLISHED-TTL:P3D
REFRESH-INTERVAL:P3D
CALSCALE:GREGORIAN
BEGIN:VEVENT
DTSTART:20191012T000000Z
DTEND:20191012T030000Z
X-MICROSOFT-CDO-ALLDAYEVENT:FALSE
SUMMARY:2019 Brewer's Fest
DESCRIPTION:HERE WE ARE FOLKS\, THE OFFICIAL ANNOUNCEMENT FOR THE 2019 BREWERS FEST!\n\n\n\nFriday\, October 11\n\n7:00pm - 10:00pm\n\nFergus Falls VFW Post #612\n\n420 East Washington Avenue\n\nFergus Falls\, Minnesota\n\n\n\nMark your calendar and get ready for a spectacular evening of food\, fun and drink while supporting the great work of the Otter Tail County Historical Society.
X-ALT-DESC;FMTTYPE=text/html:<div class="_63ew" data-testid="event-permalink-details"><span>HERE WE ARE FOLKS\, THE OFFICIAL ANNOUNCEMENT FOR THE 2019 BREWERS FEST!<br />\n<br />\nFriday\, October 11<br />\n7:00pm - 10:00pm<br />\nFergus Falls VFW Post #612<br />\n420 East Washington Avenue<br />\nFergus Falls\, Minnesota<br />\n<br />\nMark your calendar and get ready for a spectacular evening of food\, fun and drink while supporting the great work of the Otter Tail County Historical Society.</span></div>\n
LOCATION:VFW 420 E Washington Ave Fergus Falls
UID:e.314.54789
SEQUENCE:3
DTSTAMP:20260422T203644Z
URL:https://business.fergusfalls.com/events/details/2019-brewer-s-fest-54789
END:VEVENT

END:VCALENDAR
