BEGIN:VCALENDAR
VERSION:2.0
PRODID:-//ChamberMaster//Event Calendar 2.0//EN
METHOD:PUBLISH
X-PUBLISHED-TTL:P3D
REFRESH-INTERVAL:P3D
CALSCALE:GREGORIAN
BEGIN:VEVENT
DTSTART:20191109T150000Z
DTEND:20191109T210000Z
X-MICROSOFT-CDO-ALLDAYEVENT:FALSE
SUMMARY:2019 Holiday Boutique
DESCRIPTION:Join us for the 2019 Fergus Falls Holiday Boutique! FREE ADMISSION! Get a Head Start on Holiday Shopping! Cash bar and concessions will be available. Vendor List will be published closer to the event!
X-ALT-DESC;FMTTYPE=text/html:Join us for the 2019 Fergus Falls Holiday Boutique! FREE ADMISSION! Get a Head Start on Holiday Shopping! Cash bar and concessions will be available. Vendor List will be published closer to the event!
LOCATION:Bigwood Event Center 925 Western Ave Fergus Falls\, MN 56537
UID:e.314.52810
SEQUENCE:3
DTSTAMP:20260422T185951Z
URL:https://business.fergusfalls.com/events/details/2019-holiday-boutique-52810
END:VEVENT

END:VCALENDAR
