BEGIN:VCALENDAR
VERSION:2.0
PRODID:-//ChamberMaster//Event Calendar 2.0//EN
METHOD:PUBLISH
X-PUBLISHED-TTL:P3D
REFRESH-INTERVAL:P3D
CALSCALE:GREGORIAN
BEGIN:VEVENT
DTSTART:20191010T133000Z
DTEND:20191010T174500Z
X-MICROSOFT-CDO-ALLDAYEVENT:FALSE
SUMMARY:2019 West Central MN College and Career Expo
DESCRIPTION:2019 West Central MN College and Career Expo\n\nConnect with your future workforce 1000+ high school students from Fergus Falls and the region. \n\nOptions: \n\n\n	Host a TOUR for a small group of Juniors & Seniors at your business.\n	Interact with students at a "TRADE SHOW BOOTH" at Kennedy gymnasium. Click Here for Exhibitor Registration Form \n\n For more information contact:\n\nLisa Workman - Fergus Falls Area Chamber of Commerce 218-736-6951\n\nMegan Shubitz - American National Bank - 218-770-2699 OR mshubitz@anbmn.com \n\n\n\nBooth fee is $50\, payable to ISD #544.\n\nTo pay online: click on the Business & Finance category and then go to the 2019 College & Career Expo event (on the left):\n\nhttps://fergusfalls.revtrak.net/RW-Community-Education/
X-ALT-DESC;FMTTYPE=text/html:<span style="font-family:verdana\;"><span style="font-size:16px\;"><span style="color: rgb(128\, 0\, 0)\;"><strong>2019 West Central MN College and Career Expo</strong></span></span><br />\n<span style="font-size:14px\;">Connect with your future workforce 1000+ high school students from Fergus Falls and the region. </span><br />\n<strong>Options: </strong></span>\n\n<ul>\n	<li><span style="font-family:verdana\;">Host a TOUR for a small group of Juniors &amp\; Seniors at your business.</span></li>\n	<li><span style="font-family:verdana\;">Interact with students at&nbsp\;a &quot\;TRADE SHOW BOOTH&quot\; at Kennedy gymnasium. <strong><a href="https://chambermaster.blob.core.windows.net/userfiles/UserFiles/chambers/314/File/CollegeandCareerFairBoothRegistrationForm2019.docx">Click Here for Exhibitor Registration Form</a> </strong></span></li>\n</ul>\n<span style="font-family:verdana\;"> <strong>For more information contact</strong>:<br />\nLisa Workman -&nbsp\;Fergus Falls Area Chamber of Commerce 218-736-6951<br />\nMegan Shubitz - American National Bank - 218-770-2699 OR&nbsp\;<a href="mailto:mshubitz@anbmn.com">mshubitz@anbmn.com</a>&nbsp\;<br />\n<br />\nBooth fee is $50\, payable to ISD #544.<br />\nTo pay online: click on the Business &amp\; Finance category and then go to the 2019 College &amp\; Career Expo event (on the left):<br />\n<a href="https://fergusfalls.revtrak.net/RW-Community-Education/" target="_blank">https://fergusfalls.revtrak.net/RW-Community-Education/</a></span>
LOCATION:Kennedy Secondary School Trade Show: Gold Gym 601 Randolph Ave. Fergus Falls\, MN 56537
UID:e.314.54332
SEQUENCE:3
DTSTAMP:20260422T204134Z
URL:https://business.fergusfalls.com/events/details/2019-west-central-mn-college-and-career-expo-54332
END:VEVENT

END:VCALENDAR
