BEGIN:VCALENDAR
VERSION:2.0
PRODID:-//ChamberMaster//Event Calendar 2.0//EN
METHOD:PUBLISH
X-PUBLISHED-TTL:P3D
REFRESH-INTERVAL:P3D
CALSCALE:GREGORIAN
BEGIN:VEVENT
DTSTART:20200228T233000Z
DTEND:20200229T020000Z
X-MICROSOFT-CDO-ALLDAYEVENT:FALSE
SUMMARY:2020 Corporate cup
DESCRIPTION:Is your company the most mentally and physically fit in Fergus Falls?\n\nCompete in the corporate cup to prove it! Teams include 6-10 members. This event promotes team building\, physical activity\, well-being and camaraderie within the workplace.\n\nCash prizes are awarded to the top 3 winning teams.\n\n\n\nMore information can be found at:\n\nhttps://crossfitff.lrhc.org/programs/events/2020-corporate-cup/
X-ALT-DESC;FMTTYPE=text/html:<span>Is your company the most mentally and physically fit in Fergus Falls?<br />\nCompete in the corporate cup to prove it! Teams include 6-10 members. This event promotes team building\, physical activity\, well-being and camaraderie within the workplace.<br />\nCash prizes are awarded to the top 3 winning teams.<br />\n<br />\nMore information can be found at:<br />\n<a data-lynx-mode="hover" data-lynx-uri="https://l.facebook.com/l.php?u=https%3A%2F%2Fcrossfitff.lrhc.org%2Fprograms%2Fevents%2F2020-corporate-cup%2F%3Ffbclid%3DIwAR3rKMrtFu1-4ZujrAemQQKO29GW9oKCtzqJ2TwxcAKZEa8eLuKHpv_3nnA&amp\;h=AT16o0arxS49OKG3T7OMbpguRZct7l7xvRUK6WScI6actxs2nr9HX3C-AOkW2a5mRpbSVZr93fysxf9yVBH3l9aBSJ7xEktfnsep9KHxZXZYR6-l9c2SputGwLInMdth_Q" href="https://crossfitff.lrhc.org/programs/events/2020-corporate-cup/?fbclid=IwAR3rKMrtFu1-4ZujrAemQQKO29GW9oKCtzqJ2TwxcAKZEa8eLuKHpv_3nnA" rel="nofollow" target="_blank"><font color="#0066cc">https://crossfitff.lrhc.org/programs/events/2020-corporate-cup/</font></a></span>
LOCATION:
UID:e.314.56009
SEQUENCE:3
DTSTAMP:20260422T155650Z
URL:https://business.fergusfalls.com/events/details/2020-corporate-cup-56009
END:VEVENT

END:VCALENDAR
