BEGIN:VCALENDAR
VERSION:2.0
PRODID:-//ChamberMaster//Event Calendar 2.0//EN
METHOD:PUBLISH
X-PUBLISHED-TTL:P3D
REFRESH-INTERVAL:P3D
CALSCALE:GREGORIAN
BEGIN:VEVENT
DTSTART:20200819T190000Z
DTEND:20200819T223000Z
X-MICROSOFT-CDO-ALLDAYEVENT:FALSE
SUMMARY:2020 Fergus Falls Farmers Market - Wednesdays
DESCRIPTION:The Fergus Falls Farmers Market is back with a great variety of locally home made artisan and delicious products. Jams\, jellies\, canned food items\, unique artistic decor and jewelry\, healthy veggies and fruit\, yummy baked goods\, meat\, eggs\, soaps\, personal care items\, healing salves\, herbs\, flowers and so much more!!
X-ALT-DESC;FMTTYPE=text/html:The Fergus Falls Farmers Market is back with a great variety of locally home made artisan and delicious products. Jams\, jellies\, canned food items\, unique artistic decor and jewelry\, healthy veggies and fruit\, yummy baked goods\, meat\, eggs\, soaps\, personal care items\, healing salves\, herbs\, flowers and so much more!!
LOCATION:Front lawn of our Museum on West Lincoln Avenue across from Quality Toyota.
UID:e.314.57515
SEQUENCE:3
DTSTAMP:20260422T052920Z
URL:https://business.fergusfalls.com/events/details/2020-fergus-falls-farmers-market-wednesdays-08-19-2020-57515
END:VEVENT

END:VCALENDAR
