BEGIN:VCALENDAR
VERSION:2.0
PRODID:-//ChamberMaster//Event Calendar 2.0//EN
METHOD:PUBLISH
X-PUBLISHED-TTL:P3D
REFRESH-INTERVAL:P3D
CALSCALE:GREGORIAN
BEGIN:VEVENT
DTSTART;VALUE=DATE:20240705
DTEND;VALUE=DATE:20240706
TRANSP:TRANSPARENT
X-MICROSOFT-CDO-ALLDAYEVENT:TRUE
SUMMARY:2024 Lucky Duck Derby - Adopt-a-Duck
DESCRIPTION:2024 Lucky Duck Derby\n\nThe quacks are back and ready to race!\n\nContact your favorite Fergus Falls Noon Rotarian to adopt your racing duck and a chance to win cash!\n\nDucks available for $10/each\n\nRACE DAY: Thursday\, July 11\, 2024 at 5:00pm\n\nDerby Prizes\n\n1st $1\,000\n\n2nd $350\n\n3rd $150\n\nNeed not be present to win
X-ALT-DESC;FMTTYPE=text/html:2024 Lucky Duck Derby<br />\nThe quacks are back and ready to race!<br />\nContact your favorite Fergus Falls Noon Rotarian to adopt your racing duck and a chance to win cash!<br />\nDucks available for $10/each<br />\nRACE DAY: Thursday\, July 11\, 2024 at 5:00pm<br />\nDerby Prizes<br />\n1st $1\,000<br />\n2nd $350<br />\n3rd $150<br />\nNeed not be present to win
LOCATION:Race: Lincoln Ave. Bridge
UID:e.314.71890
SEQUENCE:3
DTSTAMP:20260421T101235Z
URL:https://business.fergusfalls.com/events/details/2024-lucky-duck-derby-adopt-a-duck-07-05-2024-71890
END:VEVENT

END:VCALENDAR
