BEGIN:VCALENDAR
VERSION:2.0
PRODID:-//ChamberMaster//Event Calendar 2.0//EN
METHOD:PUBLISH
X-PUBLISHED-TTL:P3D
REFRESH-INTERVAL:P3D
CALSCALE:GREGORIAN
BEGIN:VEVENT
DTSTART:20160206T203000Z
DTEND:20160207T023000Z
X-MICROSOFT-CDO-ALLDAYEVENT:FALSE
SUMMARY:23rd Annual Battle of Business Bowling Tournament 2016
DESCRIPTION:23rd Annual Chamber Battle of the Businesses Bowling Tournament\n\nSaturday\, February 6\, 2016 Northern Aire Lanes\n\nGet together with your friends and co-workers for a fun afternoon of bowling! Each team plays 3 fun games: Blackout Bingo\, 9-Pin No Tap\, & Scotch Doubles. Door Prizes\n\nTops teams (amongst all 3 sessions) will be awarded Cash Prizes -- Fergus Bucks! \n\nA highly-coveted Traveling Trophy will be awarded to the First Place Team and for "Best Dressed Team."\n\nDress alike\, however you choose -- matching shirts\, Hawaiian\, "old school" bowlers\, '80s attire\, sports jerseys -- get crazy!\n\nSessions: 2:30pm -- 4:30pm -- 6:30pm\n\n\nTeams consist of 4 people. All bowlers must be amateurs & 18 yrs. or older. \n\nMulligans (frame erase) and Handicap Boosters will be available ($5 donation for each).\n\nClick Here for Registration Form
X-ALT-DESC;FMTTYPE=text/html:<div style="text-align: center\;"><strong>23rd Annual&nbsp\;Chamber Battle of the Businesses Bowling Tournament</strong></div>\n\n<div style="text-align: center\;"><strong>Saturday\,&nbsp\;February 6\, 2016&nbsp\;Northern Aire Lanes</strong><br />\n<span style="font-size: 11px\;">Get together with your friends and co-workers for a fun afternoon of bowling! Each team plays 3 fun games: Blackout Bingo\, 9-Pin No Tap\, &amp\; Scotch Doubles. Door Prizes</span></div>\n\n<div style="text-align: center\;"><span style="font-size: 11px\;">Tops teams (amongst all 3 sessions) will be awarded Cash Prizes -- Fergus Bucks!&nbsp\;<br />\nA highly-coveted Traveling Trophy will be awarded to the First Place Team and for &quot\;Best Dressed Team.&quot\;</span></div>\n\n<div style="text-align: center\;"><span style="font-size: 11px\;">Dress alike\, however you choose -- matching shirts\, Hawaiian\, &quot\;old school&quot\; bowlers\, &#39\;80s&nbsp\;attire\, sports jerseys -- get crazy!<br />\nSessions: 2:30pm -- 4:30pm -- 6:30pm</span></div>\n\n<div>\n<div style="text-align: center\;"><span style="font-size: 11px\;">Teams consist of 4 people. All bowlers must be amateurs &amp\; 18 yrs. or older.&nbsp\;<br />\nMulligans (frame erase) and Handicap Boosters will be available ($5 donation for each).</span><br />\n<span style="font-size: 14px\;"><strong><a href="http://cloud.chambermaster.com/userfiles/UserFiles/chambers/314/File/BowlingRegistration2016.pdf"><span style="background-color: rgb(255\, 255\, 0)\;">Click Here for Registration Form</span></a><span style="background-color: rgb(255\, 255\, 0)\;"> </span></strong></span></div>\n</div>\n
LOCATION:Location: Northern Aire Lanes Address: 1419 College Way Fergus Falls\, MN Phone: 218-736-3333
UID:e.314.27957
SEQUENCE:3
DTSTAMP:20260425T215758Z
URL:https://business.fergusfalls.com/events/details/23rd-annual-battle-of-business-bowling-tournament-2016-02-06-2016-27957
END:VEVENT

END:VCALENDAR
