BEGIN:VCALENDAR
VERSION:2.0
PRODID:-//ChamberMaster//Event Calendar 2.0//EN
METHOD:PUBLISH
X-PUBLISHED-TTL:P3D
REFRESH-INTERVAL:P3D
CALSCALE:GREGORIAN
BEGIN:VEVENT
DTSTART:20190202T184500Z
DTEND:20190203T023000Z
X-MICROSOFT-CDO-ALLDAYEVENT:FALSE
SUMMARY:26th Annual Battle of the Businesses Bowling Tournament 2019
DESCRIPTION:26th Annual "BoBB" Chamber Battle of the Businesses Bowling Tournament\n\nSaturday\, February 2\, 2019 Northern Aire Lanes\n\n4 Sessions: \n\n\n	12:45pm- 3\n	2:45pm   6\n	5:15pm   1 \n	7:15pm   7\n\n\nEach team plays 3 fun games: Blackout Bingo\, 9-Pin No Tap\, & Scotch Doubles. Prizes. \n\nTrophy for Best Team Costume -- SPORTS Theme\n\nTeams of 4: Men\, Women or Both (21+\, event is handicapped to even the chances to win)\n\nTops teams (amongst all 4 sessions) will be awarded Fergus Bucks! \n\nPLUS: King BoBB & Gutter BoBB custom pins will be awarded for 1st & Last Place Teams.\n\n\n\nJoin these FUN teams who've already registered: Bremer Bank\, Security State Bank\, Quality Toyota\, Gate City Bank\, Country Inn & Suites\, Pemberton Law\, Otter Tail County\, Bank of the West\, Lake Region Healthcare\, Gary's Cookin'\, Stalker Lake Golf Course\, Unlimited Auto Glass\, Vector Windos\, Moore Engineering\, Cooper's Office Supply\, Summerfest\, Victor Lundeen Co.\, Olson Funeral Home\, Ottertail Telcom/Park Region Telephone\, Service Food\, Otter Tail Power\, AmericInn\, Marco\, Wash 'n Go\, Thrivent Financial\, Walmart\, West Central Initiative\, Taco John's\, Knutson Electric\, Someplace Safe\, Minnesota Motor\, Perkins\, Premier Electric\, Cline Jensen\, Mill Street Residence.
X-ALT-DESC;FMTTYPE=text/html:<div><span style="font-size: 12px\;"><span style="color: rgb(0\, 0\, 0)\;"><span style="font-family: verdana\;">26<sup>th</sup> Annual &quot\;BoBB&quot\; Chamber Battle of the Businesses Bowling Tournament</span></span></span></div>\n\n<div><span style="font-size: 12px\;"><span style="color: rgb(0\, 0\, 0)\;"><span style="font-family: verdana\;">Saturday\,&nbsp\;February 2\, 2019&nbsp\;Northern Aire Lanes<br />\n<u>4 Sessions:</u> </span></span></span></div>\n\n<ul>\n	<li style="margin: 0in 0in 0pt\;"><font color="#000000" face="Calibri" size="3">12:45pm- 3</font></li>\n	<li style="margin: 0in 0in 0pt\;"><font color="#000000" face="Calibri" size="3">2:45pm &ndash\; 6</font></li>\n	<li style="margin: 0in 0in 0pt\;"><font color="#000000" face="Calibri" size="3">5:15pm &ndash\; 1 </font></li>\n	<li style="margin: 0in 0in 0pt\;"><font color="#000000" face="Calibri" size="3">7:15pm &ndash\; 7</font></li>\n</ul>\n\n<div><span style="font-size: 12px\;"><span style="color: rgb(0\, 0\, 0)\;"><span style="font-family: verdana\;">Each team plays 3 fun games: Blackout Bingo\, 9-Pin No Tap\, &amp\; Scotch Doubles. Prizes.&nbsp\;</span></span></span></div>\n\n<div><span style="font-size: 12px\;"><span style="color: rgb(0\, 0\, 0)\;"><font face="verdana">Trophy for Best Team Costume -- SPORTS Theme</font></span><br />\n<span style="color: rgb(0\, 0\, 0)\;"><font face="verdana">Teams of 4: Men\, Women or Both<strong> </strong>(21+\, event is handicapped to even the chances to win)</font></span></span></div>\n\n<div><span style="font-size: 12px\;"><span style="color: rgb(0\, 0\, 0)\;"><span style="font-family: verdana\;">Tops teams (amongst all 4 sessions) will be awarded&nbsp\;Fergus Bucks!&nbsp\;</span></span></span></div>\n\n<div><span style="font-size: 12px\;"><span style="color: rgb(0\, 0\, 0)\;"><span style="font-family: verdana\;">PLUS: King&nbsp\;BoBB&nbsp\;&amp\; Gutter&nbsp\;BoBB&nbsp\;custom pins will be awarded for 1st &amp\;&nbsp\;Last Place Teams.<br />\n<br />\nJoin these FUN teams who&#39\;ve already registered: Bremer Bank\, Security State Bank\, Quality Toyota\, Gate City Bank\, Country Inn &amp\; Suites\, Pemberton Law\, Otter Tail County\, Bank of the West\, Lake Region Healthcare\, Gary&#39\;s Cookin&#39\;\, Stalker Lake Golf Course\, Unlimited Auto Glass\, Vector Windos\, Moore Engineering\, Cooper&#39\;s Office Supply\, Summerfest\, Victor Lundeen Co.\, Olson Funeral Home\, Ottertail Telcom/Park Region Telephone\, Service Food\, Otter Tail Power\, AmericInn\, Marco\, Wash &#39\;n Go\, Thrivent Financial\, Walmart\, West Central Initiative\, Taco John&#39\;s\, Knutson Electric\, Someplace Safe\, Minnesota Motor\, Perkins\, Premier Electric\, Cline Jensen\, Mill Street Residence.</span></span></span></div>\n
LOCATION:Northern Aire Lanes 1419 College Way Fergus Falls\, MN 56537 218-736-3333
UID:e.314.43884
SEQUENCE:3
DTSTAMP:20260423T094344Z
URL:https://business.fergusfalls.com/events/details/26th-annual-battle-of-the-businesses-bowling-tournament-2019-43884
END:VEVENT

END:VCALENDAR
