BEGIN:VCALENDAR
VERSION:2.0
PRODID:-//ChamberMaster//Event Calendar 2.0//EN
METHOD:PUBLISH
X-PUBLISHED-TTL:P3D
REFRESH-INTERVAL:P3D
CALSCALE:GREGORIAN
BEGIN:VEVENT
DTSTART:20200201T184500Z
DTEND:20200202T010000Z
X-MICROSOFT-CDO-ALLDAYEVENT:FALSE
SUMMARY:27th Annual Battle of the Businesses Bowling Tournament 2020
DESCRIPTION:"Strike Up the PLAID" at the 27th Annual "BoBB" Chamber Battle of the Businesses Bowling Tournament.\n\n\nEach team plays 3 fun games: Blackout Bingo\, 9-Pin No Tap\, & Scotch Doubles. PRIZES! \n\nTrophy for Best Dressed Team -- Theme: PLAID\n\nTeams of 4: Men\, Women or Both (18+\, event is handicapped to even the chances to win)\n\nClick Here for 2020 Bowling Registration FORM \n\nTops teams will be awarded Fergus Bucks! \n\nPLUS: King BoBB & Gutter BoBB custom pins will be awarded for 1st & 60th Place Teams.\n2020 RESULTS:\n\nPLACE TEAM .................................................................... SCORE\n\n\n	Perkins .................................................................... 2416\n	Stalker Lake Golf Course ......................................... 2412\n	Service Food Team #2 ............................................. 2394\n	LB Homes Team #2 "Holy Rollers"........................... 2244\n	Otter Tail County .................................................... 2224\n	Lake Region Healthcare "Goofballs"....................... 2183\n	Olson Funeral Home ............................................... 2160\n	Otter Tail Power Co. ............................................... 2133\n	Thrivent Financial   Kurt Nygaard.......................... 2130\n	 Lakes Concrete Pumping ....................................... 2104\n	 Fergus Wash & Go ................................................. 2092\n	 Taco John's Team #1 .............................................. 2086\n	 Northern Contours Team #2 .................................. 2082\n	 MN Motor Varsity Team ........................................ 2062\n	 Taco John's Team #2.............................................. 2045\n	 Marco ..................................................................... 2033\n	 Service Food Team #1 ............................................ 2026\n	 Service Food Team #3 ............................................ 2026\n	 Lake Region Healthcare "Ebowla".......................... 2023\n	 AmericInn Team #1 ................................................ 2018\n	 Otter Tail Coaches Team #1 ................................... 2002\n	 Vector Windows Team #1..................................... 1987\n	 Victor Lundeen Co.................................................. 1979\n	 Bell Bank ................................................................ 1977\n	 Mill Street Team #1............................................... 1972\n	 Fergus Falls Police Dept.......................................... 1968\n	 LB Homes Team #3 ................................................ 1966\n	 Security State Bank ................................................ 1957\n	 Quality Toyota Team #2........................................ 1949\n	 West Central Initiative-Live Wide Open................. 1943\n	 Northern Contours Team #1.................................. 1940\n	 Mill Street Team #2 ................................................ 1936\n	 Farmers Insurance-Jessica Lopez............................ 1896\n	 MN Motor JV Team ................................................ 1893\n	 Wal-Mart ................................................................ 1881\n	 Gate City Bank "Spare Change".............................. 1872\n	 VFW Team #2 ......................................................... 1870\n	 Vector Windows Team #2 ...................................... 1867\n	 Vector Windows Team #3 ...................................... 1863\n	 Moore Engineering................................................ 1856\n	 Nelson Auto Center ............................................... 1846\n	 LB Homes Team #1................................................ 1831\n	 Leighton Broadcasting Team #1 ............................ 1829\n	 SERVPRO ................................................................ 1818\n	 Otter Tail Coaches Team #3 ................................... 1814\n	 Leighton Broadcasting Team #2 ............................ 1804\n	 AmericInn Team #2 ................................................ 1751\n	 Otter Tail Coaches Team #2................................... 1749\n	 VFW Team #1......................................................... 1742\n	 PRO Resources........................................................ 1738\n	 Pemberton Law...................................................... 1715\n	 Quality Toyota #1.................................................. 1708\n	 Northwestern Bank ................................................ 1678\n	 Bremer Bank.......................................................... 1653\n	 Someplace Safe ...................................................... 1582
X-ALT-DESC;FMTTYPE=text/html:<div><span style="font-size:14px\;"><span style="font-family:verdana\;"><span style="color: rgb(0\, 0\, 0)\;"><strong>&quot\;Strike Up the PLAID&quot\;</strong> at the 27<sup>th</sup> Annual &quot\;BoBB&quot\; Chamber Battle of the Businesses Bowling Tournament.</span></span></span></div>\n\n<div>\n<div><span style="font-size:14px\;"><span style="font-family:verdana\;"><span style="color: rgb(0\, 0\, 0)\;">Each team plays 3 fun games: Blackout Bingo\, 9-Pin No Tap\, &amp\; Scotch Doubles. <strong>PRIZES!&nbsp\;</strong></span></span></span></div>\n\n<div><span style="font-size:14px\;"><span style="font-family:verdana\;"><span style="color: rgb(0\, 0\, 0)\;">Trophy for Best Dressed Team -- Theme:&nbsp\;<strong>PLAID</strong></span><br />\n<span style="color: rgb(0\, 0\, 0)\;">Teams of 4: Men\, Women or Both<strong>&nbsp\;</strong>(18+\, event is handicapped to even the chances to win)<br />\n<a href="https://chambermaster.blob.core.windows.net/userfiles/UserFiles/chambers/314/File/BowlingRegistration2020.pdf">Click Here for 2020 Bowling Registration FORM</a> </span></span></span></div>\n\n<div><span style="font-size:14px\;"><span style="font-family:verdana\;"><span style="color: rgb(0\, 0\, 0)\;">Tops teams will be awarded&nbsp\;Fergus Bucks!&nbsp\;</span></span></span></div>\n\n<div><span style="font-size:14px\;"><span style="font-family:verdana\;"><span style="color: rgb(0\, 0\, 0)\;">PLUS: King&nbsp\;BoBB&nbsp\;&amp\; Gutter&nbsp\;BoBB&nbsp\;custom pins will be awarded for 1st &amp\;&nbsp\;60th Place Teams.</span></span></span></div>\n<strong><u><span style="color:black\;"><span style="font-size:12.0pt\;">2020 RESULTS:<br />\nPLACE TEAM .................................................................... </span>SCORE</span></u></strong>\n\n<ol>\n	<li style="margin-bottom:0in\;margin-bottom:.0001pt\;text-autospace:none\;"><span style="font-size:11px\;"><span style="font-family:arial\;"><span style="color:black\;">Perkins .................................................................... 2416</span></span></span></li>\n	<li style="margin-bottom:0in\;margin-bottom:.0001pt\;text-autospace:none\;"><span style="font-size:11px\;"><span style="font-family:arial\;"><span style="color:black\;">Stalker Lake Golf Course ......................................... 2412</span></span></span></li>\n	<li style="margin-bottom:0in\;margin-bottom:.0001pt\;text-autospace:none\;"><span style="font-size:11px\;"><span style="font-family:arial\;"><span style="color:black\;">Service Food Team #2 ............................................. 2394</span></span></span></li>\n	<li style="margin-bottom:0in\;margin-bottom:.0001pt\;text-autospace:none\;"><span style="font-size:11px\;"><span style="font-family:arial\;"><span style="color:black\;">LB Homes Team #2 &ldquo\;Holy Rollers&rdquo\;........................... 2244</span></span></span></li>\n	<li style="margin-bottom:0in\;margin-bottom:.0001pt\;text-autospace:none\;"><span style="font-size:11px\;"><span style="font-family:arial\;"><span style="color:black\;">Otter Tail County .................................................... 2224</span></span></span></li>\n	<li style="margin-bottom:0in\;margin-bottom:.0001pt\;text-autospace:none\;"><span style="font-size:11px\;"><span style="font-family:arial\;"><span style="color:black\;">Lake Region Healthcare &ldquo\;Goofballs&rdquo\;....................... 2183</span></span></span></li>\n	<li style="margin-bottom:0in\;margin-bottom:.0001pt\;text-autospace:none\;"><span style="font-size:11px\;"><span style="font-family:arial\;"><span style="color:black\;">Olson Funeral Home ............................................... 2160</span></span></span></li>\n	<li style="margin-bottom:0in\;margin-bottom:.0001pt\;text-autospace:none\;"><span style="font-size:11px\;"><span style="font-family:arial\;"><span style="color:black\;">Otter Tail Power Co. ............................................... 2133</span></span></span></li>\n	<li style="margin-bottom:0in\;margin-bottom:.0001pt\;text-autospace:none\;"><span style="font-size:11px\;"><span style="font-family:arial\;"><span style="color:black\;">Thrivent Financial &ndash\; Kurt Nygaard.......................... 2130</span></span></span></li>\n	<li style="margin-bottom:0in\;margin-bottom:.0001pt\;text-autospace:none\;"><span style="font-size:11px\;"><span style="font-family:arial\;"><span style="color:black\;">&nbsp\;Lakes Concrete Pumping ....................................... 2104</span></span></span></li>\n	<li style="margin-bottom:0in\;margin-bottom:.0001pt\;text-autospace:none\;"><span style="font-size:11px\;"><span style="font-family:arial\;"><span style="color:black\;">&nbsp\;Fergus Wash &amp\; Go ................................................. 2092</span></span></span></li>\n	<li style="margin-bottom:0in\;margin-bottom:.0001pt\;text-autospace:none\;"><span style="font-size:11px\;"><span style="font-family:arial\;"><span style="color:black\;">&nbsp\;Taco John&#39\;s Team #1 .............................................. 2086</span></span></span></li>\n	<li style="margin-bottom:0in\;margin-bottom:.0001pt\;text-autospace:none\;"><span style="font-size:11px\;"><span style="font-family:arial\;"><span style="color:black\;">&nbsp\;Northern Contours Team #2 .................................. 2082</span></span></span></li>\n	<li style="margin-bottom:0in\;margin-bottom:.0001pt\;text-autospace:none\;"><span style="font-size:11px\;"><span style="font-family:arial\;"><span style="color:black\;">&nbsp\;MN Motor Varsity Team ........................................ 2062</span></span></span></li>\n	<li style="margin-bottom:0in\;margin-bottom:.0001pt\;text-autospace:none\;"><span style="font-size:11px\;"><span style="font-family:arial\;"><span style="color:black\;">&nbsp\;Taco John&#39\;s Team #2.............................................. 2045</span></span></span></li>\n	<li style="margin-bottom:0in\;margin-bottom:.0001pt\;text-autospace:none\;"><span style="font-size:11px\;"><span style="font-family:arial\;"><span style="color:black\;">&nbsp\;Marco ..................................................................... 2033</span></span></span></li>\n	<li style="margin-bottom:0in\;margin-bottom:.0001pt\;text-autospace:none\;"><span style="font-size:11px\;"><span style="font-family:arial\;"><span style="color:black\;">&nbsp\;Service Food Team #1 ............................................ 2026</span></span></span></li>\n	<li style="margin-bottom:0in\;margin-bottom:.0001pt\;text-autospace:none\;"><span style="font-size:11px\;"><span style="font-family:arial\;"><span style="color:black\;">&nbsp\;Service Food Team #3 ............................................ 2026</span></span></span></li>\n	<li style="margin-bottom:0in\;margin-bottom:.0001pt\;text-autospace:none\;"><span style="font-size:11px\;"><span style="font-family:arial\;"><span style="color:black\;">&nbsp\;Lake Region Healthcare &ldquo\;Ebowla&rdquo\;.......................... 2023</span></span></span></li>\n	<li style="margin-bottom:0in\;margin-bottom:.0001pt\;text-autospace:none\;"><span style="font-size:11px\;"><span style="font-family:arial\;"><span style="color:black\;">&nbsp\;AmericInn Team #1 ................................................ 2018</span></span></span></li>\n	<li style="margin-bottom:0in\;margin-bottom:.0001pt\;text-autospace:none\;"><span style="font-size:11px\;"><span style="font-family:arial\;"><span style="color:black\;">&nbsp\;Otter Tail Coaches Team #1 ................................... 2002</span></span></span></li>\n	<li style="margin-bottom:0in\;margin-bottom:.0001pt\;text-autospace:none\;"><span style="font-size:11px\;"><span style="font-family:arial\;"><span style="color:black\;">&nbsp\;Vector Windows Team #1..................................... 1987</span></span></span></li>\n	<li style="margin-bottom:0in\;margin-bottom:.0001pt\;text-autospace:none\;"><span style="font-size:11px\;"><span style="font-family:arial\;"><span style="color:black\;">&nbsp\;Victor Lundeen Co.................................................. 1979</span></span></span></li>\n	<li style="margin-bottom:0in\;margin-bottom:.0001pt\;text-autospace:none\;"><span style="font-size:11px\;"><span style="font-family:arial\;"><span style="color:black\;">&nbsp\;Bell Bank ................................................................ 1977</span></span></span></li>\n	<li style="margin-bottom:0in\;margin-bottom:.0001pt\;text-autospace:none\;"><span style="font-size:11px\;"><span style="font-family:arial\;"><span style="color:black\;">&nbsp\;Mill Street Team #1............................................... 1972</span></span></span></li>\n	<li style="margin-bottom:0in\;margin-bottom:.0001pt\;text-autospace:none\;"><span style="font-size:11px\;"><span style="font-family:arial\;"><span style="color:black\;">&nbsp\;Fergus Falls Police Dept.......................................... 1968</span></span></span></li>\n	<li style="margin-bottom:0in\;margin-bottom:.0001pt\;text-autospace:none\;"><span style="font-size:11px\;"><span style="font-family:arial\;"><span style="color:black\;">&nbsp\;LB Homes Team #3 ................................................ 1966</span></span></span></li>\n	<li style="margin-bottom:0in\;margin-bottom:.0001pt\;text-autospace:none\;"><span style="font-size:11px\;"><span style="font-family:arial\;"><span style="color:black\;">&nbsp\;Security State Bank ................................................ 1957</span></span></span></li>\n	<li style="margin-bottom:0in\;margin-bottom:.0001pt\;text-autospace:none\;"><span style="font-size:11px\;"><span style="font-family:arial\;"><span style="color:black\;">&nbsp\;Quality Toyota Team #2........................................ 1949</span></span></span></li>\n	<li style="margin-bottom:0in\;margin-bottom:.0001pt\;text-autospace:none\;"><span style="font-size:11px\;"><span style="font-family:arial\;"><span style="color:black\;">&nbsp\;West Central Initiative-Live Wide Open................. 1943</span></span></span></li>\n	<li style="margin-bottom:0in\;margin-bottom:.0001pt\;text-autospace:none\;"><span style="font-size:11px\;"><span style="font-family:arial\;"><span style="color:black\;">&nbsp\;Northern Contours Team #1.................................. 1940</span></span></span></li>\n	<li style="margin-bottom:0in\;margin-bottom:.0001pt\;text-autospace:none\;"><span style="font-size:11px\;"><span style="font-family:arial\;"><span style="color:black\;">&nbsp\;Mill Street Team #2 ................................................ 1936</span></span></span></li>\n	<li style="margin-bottom:0in\;margin-bottom:.0001pt\;text-autospace:none\;"><span style="font-size:11px\;"><span style="font-family:arial\;"><span style="color:black\;">&nbsp\;Farmers Insurance-Jessica Lopez............................ 1896</span></span></span></li>\n	<li style="margin-bottom:0in\;margin-bottom:.0001pt\;text-autospace:none\;"><span style="font-size:11px\;"><span style="font-family:arial\;"><span style="color:black\;">&nbsp\;MN Motor JV Team ................................................ 1893</span></span></span></li>\n	<li style="margin-bottom:0in\;margin-bottom:.0001pt\;text-autospace:none\;"><span style="font-size:11px\;"><span style="font-family:arial\;"><span style="color:black\;">&nbsp\;Wal-Mart ................................................................ 1881</span></span></span></li>\n	<li style="margin-bottom:0in\;margin-bottom:.0001pt\;text-autospace:none\;"><span style="font-size:11px\;"><span style="font-family:arial\;"><span style="color:black\;">&nbsp\;Gate City Bank &ldquo\;Spare Change&rdquo\;.............................. 1872</span></span></span></li>\n	<li style="margin-bottom:0in\;margin-bottom:.0001pt\;text-autospace:none\;"><span style="font-size:11px\;"><span style="font-family:arial\;"><span style="color:black\;">&nbsp\;VFW Team #2 ......................................................... 1870</span></span></span></li>\n	<li style="margin-bottom:0in\;margin-bottom:.0001pt\;text-autospace:none\;"><span style="font-size:11px\;"><span style="font-family:arial\;"><span style="color:black\;">&nbsp\;Vector Windows Team #2 ...................................... 1867</span></span></span></li>\n	<li style="margin-bottom:0in\;margin-bottom:.0001pt\;text-autospace:none\;"><span style="font-size:11px\;"><span style="font-family:arial\;"><span style="color:black\;">&nbsp\;Vector Windows Team #3 ...................................... 1863</span></span></span></li>\n	<li style="margin-bottom:0in\;margin-bottom:.0001pt\;text-autospace:none\;"><span style="font-size:11px\;"><span style="font-family:arial\;"><span style="color:black\;">&nbsp\;Moore Engineering................................................ 1856</span></span></span></li>\n	<li style="margin-bottom:0in\;margin-bottom:.0001pt\;text-autospace:none\;"><span style="font-size:11px\;"><span style="font-family:arial\;"><span style="color:black\;">&nbsp\;Nelson Auto Center ............................................... 1846</span></span></span></li>\n	<li style="margin-bottom:0in\;margin-bottom:.0001pt\;text-autospace:none\;"><span style="font-size:11px\;"><span style="font-family:arial\;"><span style="color:black\;">&nbsp\;LB Homes Team #1................................................ 1831</span></span></span></li>\n	<li style="margin-bottom:0in\;margin-bottom:.0001pt\;text-autospace:none\;"><span style="font-size:11px\;"><span style="font-family:arial\;"><span style="color:black\;">&nbsp\;Leighton Broadcasting Team #1 ............................ 1829</span></span></span></li>\n	<li style="margin-bottom:0in\;margin-bottom:.0001pt\;text-autospace:none\;"><span style="font-size:11px\;"><span style="font-family:arial\;"><span style="color:black\;">&nbsp\;SERVPRO ................................................................ 1818</span></span></span></li>\n	<li style="margin-bottom:0in\;margin-bottom:.0001pt\;text-autospace:none\;"><span style="font-size:11px\;"><span style="font-family:arial\;"><span style="color:black\;">&nbsp\;Otter Tail Coaches Team #3 ................................... 1814</span></span></span></li>\n	<li style="margin-bottom:0in\;margin-bottom:.0001pt\;text-autospace:none\;"><span style="font-size:11px\;"><span style="font-family:arial\;"><span style="color:black\;">&nbsp\;Leighton Broadcasting Team #2 ............................ 1804</span></span></span></li>\n	<li style="margin-bottom:0in\;margin-bottom:.0001pt\;text-autospace:none\;"><span style="font-size:11px\;"><span style="font-family:arial\;"><span style="color:black\;">&nbsp\;AmericInn Team #2 ................................................ 1751</span></span></span></li>\n	<li style="margin-bottom:0in\;margin-bottom:.0001pt\;text-autospace:none\;"><span style="font-size:11px\;"><span style="font-family:arial\;"><span style="color:black\;">&nbsp\;Otter Tail Coaches Team #2................................... 1749</span></span></span></li>\n	<li style="margin-bottom:0in\;margin-bottom:.0001pt\;text-autospace:none\;"><span style="font-size:11px\;"><span style="font-family:arial\;"><span style="color:black\;">&nbsp\;VFW Team #1......................................................... 1742</span></span></span></li>\n	<li style="margin-bottom:0in\;margin-bottom:.0001pt\;text-autospace:none\;"><span style="font-size:11px\;"><span style="font-family:arial\;"><span style="color:black\;">&nbsp\;PRO Resources........................................................ 1738</span></span></span></li>\n	<li style="margin-bottom:0in\;margin-bottom:.0001pt\;text-autospace:none\;"><span style="font-size:11px\;"><span style="font-family:arial\;"><span style="color:black\;">&nbsp\;Pemberton Law...................................................... 1715</span></span></span></li>\n	<li style="margin-bottom:0in\;margin-bottom:.0001pt\;text-autospace:none\;"><span style="font-size:11px\;"><span style="font-family:arial\;"><span style="color:black\;">&nbsp\;Quality Toyota #1.................................................. 1708</span></span></span></li>\n	<li style="margin-bottom:0in\;margin-bottom:.0001pt\;text-autospace:none\;"><span style="font-size:11px\;"><span style="font-family:arial\;"><span style="color:black\;">&nbsp\;Northwestern Bank ................................................ 1678</span></span></span></li>\n	<li style="margin-bottom:0in\;margin-bottom:.0001pt\;text-autospace:none\;"><span style="font-size:11px\;"><span style="font-family:arial\;"><span style="color:black\;">&nbsp\;Bremer Bank.......................................................... 1653</span></span></span></li>\n	<li style="margin-bottom:0in\;margin-bottom:.0001pt\;text-autospace:none\;"><span style="font-size:11px\;"><span style="font-family:arial\;"><span style="color:black\;">&nbsp\;Someplace Safe ...................................................... 1582</span></span></span></li>\n</ol>\n</div>\n
LOCATION:Northern Aire Lanes 1419 College Way Fergus Falls\, MN 56537 218-736-3333
UID:e.314.55811
SEQUENCE:3
DTSTAMP:20260422T143356Z
URL:https://business.fergusfalls.com/events/details/27th-annual-battle-of-the-businesses-bowling-tournament-2020-55811
END:VEVENT

END:VCALENDAR
