BEGIN:VCALENDAR
VERSION:2.0
PRODID:-//ChamberMaster//Event Calendar 2.0//EN
METHOD:PUBLISH
X-PUBLISHED-TTL:P3D
REFRESH-INTERVAL:P3D
CALSCALE:GREGORIAN
BEGIN:VEVENT
DTSTART:20160510T223000Z
DTEND:20160510T230000Z
X-MICROSOFT-CDO-ALLDAYEVENT:FALSE
SUMMARY:2nd Annual Mayor's Ride
DESCRIPTION:Mayor Hal Leland and Pedal Fergus Falls are excited to host the 2nd Annual Mayor's Ride! We'll meet on the front steps of City Hall to hear a few brief remarks from Mayor Leland\, then will head out for the ride! The ride will be a short three-mile ride around downtown Fergus Falls. We hope you can join us!
X-ALT-DESC;FMTTYPE=text/html:<div class="_2qgs"><span class="_4n-j fsl">Mayor Hal Leland and Pedal Fergus Falls are excited to host the 2nd Annual Mayor&#39\;s Ride! We&#39\;ll meet on the front steps of City Hall to hear a few brief remarks from Mayor Leland\, then will head out for the ride! The ride will be a short three-mile ride around downtown Fergus Falls. We hope you can join us!</span></div>\n
LOCATION:Fergus Falls City Hall
UID:e.314.32669
SEQUENCE:3
DTSTAMP:20260425T163022Z
URL:https://business.fergusfalls.com/events/details/2nd-annual-mayor-s-ride-05-10-2016-32669
END:VEVENT

END:VCALENDAR
