BEGIN:VCALENDAR
VERSION:2.0
PRODID:-//ChamberMaster//Event Calendar 2.0//EN
METHOD:PUBLISH
X-PUBLISHED-TTL:P3D
REFRESH-INTERVAL:P3D
CALSCALE:GREGORIAN
BEGIN:VEVENT
DTSTART:20180501T210000Z
DTEND:20180501T230000Z
X-MICROSOFT-CDO-ALLDAYEVENT:FALSE
SUMMARY:2nd Annual Mayor-to-Mayor Event
DESCRIPTION:Fergus Falls Downtown Riverfront Council hosts 2nd Annual Mayor-to- Mayor Event\n\n\n\nWe are hosting our 2nd Annual M2M event. This year\, we will feature Bemidji Mayor\, Rita Albrecht and Executive Director of Greater Bemidji\, Dave Hengel in a panel presentation moderated by our very own\, Mayor Ben Schierer.\n\n\n\nJoin us to learn from Bemidji leaders about the successful revitalization efforts of their downtown. Hear strategies that will help us to transform Fergus Falls into a vibrant\, growing community.\n\n\n\nA $12 cover will be charged at the door. This includes the pasta bar and entrance to the event. Open to the public but seating is limited so please RSVP to netia@ffriver.org.
X-ALT-DESC;FMTTYPE=text/html:<div class="_63ew"><span>Fergus Falls Downtown Riverfront Council hosts 2nd Annual Mayor-to- Mayor Event<br />\n<br />\nWe are hosting our 2nd Annual M2M event. This year\, we will feature Bemidji Mayor\, Rita Albrecht and Executive Director of Greater Bemidji\, Dave Hengel in a panel presentation moderated by our very own\, Mayor Ben Schierer.<br />\n<br />\nJoin us to learn from Bemidji leaders about the successful revitalization efforts of their downtown. Hear strategies that will help us to transform Fergus Falls into a vibrant\, growing community.<br />\n<br />\nA $12 cover will be charged at the door. This includes the pasta bar and entrance to the event. Open to the public but seating is limited so please RSVP to netia@ffriver.org.</span></div>\n
LOCATION:Bello Cucina 106 W Lincoln Ave
UID:e.314.48845
SEQUENCE:3
DTSTAMP:20260423T224657Z
URL:https://business.fergusfalls.com/events/details/2nd-annual-mayor-to-mayor-event-48845
END:VEVENT

END:VCALENDAR
