BEGIN:VCALENDAR
VERSION:2.0
PRODID:-//ChamberMaster//Event Calendar 2.0//EN
METHOD:PUBLISH
X-PUBLISHED-TTL:P3D
REFRESH-INTERVAL:P3D
CALSCALE:GREGORIAN
BEGIN:VEVENT
DTSTART:20170115T200000Z
DTEND:20170115T220000Z
X-MICROSOFT-CDO-ALLDAYEVENT:FALSE
SUMMARY:2nd Annual Noon Kiwanis Lake Alice Winter Karnival
DESCRIPTION:Come enjoy skating\, frozen lake golfing\n\n(bring golf clubs if you have them!)\, horse and carriage rides\,\n\nhot chocolate and treats\, a warm bonfire and more family fun!\n\nThe event is FREE!
X-ALT-DESC;FMTTYPE=text/html:<span class="_4n-j _3cht fsl">Come enjoy skating\, frozen lake golfing<br />\n(bring golf clubs if you have them!)\, horse and carriage rides\,<br />\nhot chocolate and treats\, a warm bonfire and more family fun!<br />\nThe event is FREE!</span>
LOCATION:Noon Kiwanis Lake Alice Ice Skating Lake Alice S Lakeside Dr\, Fergus Falls
UID:e.314.37253
SEQUENCE:3
DTSTAMP:20260425T022658Z
URL:https://business.fergusfalls.com/events/details/2nd-annual-noon-kiwanis-lake-alice-winter-karnival-37253
END:VEVENT

END:VCALENDAR
