BEGIN:VCALENDAR
VERSION:2.0
PRODID:-//ChamberMaster//Event Calendar 2.0//EN
METHOD:PUBLISH
X-PUBLISHED-TTL:P3D
REFRESH-INTERVAL:P3D
CALSCALE:GREGORIAN
BEGIN:VEVENT
DTSTART:20171201T143000Z
DTEND:20180129T230000Z
X-MICROSOFT-CDO-ALLDAYEVENT:FALSE
SUMMARY:2nd Annual Snowman Contest
DESCRIPTION:Blow away the winter blahs and have fun by entering our 2nd Annual Snowman Contest. Create a snowman\, with snow or any other materials\, now through January 29\, 2018\, and you could win $100 Fergus Bucks.\n\n\n\nAnyone can enter: business\, individual departments\, organizations\, clubs\, church\, school\, youth group\, non-profits. The snowman or snowmen/women can be indoors or outside\, made with real snow\, paper\, fabric   you get the idea   anything goes! Get creative   use props\, include your logo\, dress it in a company uniform. Take a photo of your creation and send it to chamber@fergusfalls.com by January 29\, 2018. We'll post it on our Facebook page. They'll be judged on overall creativity and we'll announce the winner on February 2. The earlier you send it to us\, the more Facebook "likes & shares" you'll get.\n\n\n\nJoin the fun and chase away cabin fever!\n\nAll Chamber Members are encouraged to participate. Have questions? Call us: 218-736-6951
X-ALT-DESC;FMTTYPE=text/html:<span class="_4n-j _fbReactionComponent__eventDetailsContentTags fsl" data-testid="event-permalink-details">Blow away the winter blahs and have fun by entering our 2nd Annual Snowman Contest. Create a snowman\, with snow or any other materials\, now through January 29\, 2018\, and you could win $100 Fergus Bucks.<br />\n<br />\nAnyone can enter: business\, individual departments\, organizations\, clubs\, church\, school\, youth group\, non-profits. The snowman or snowmen/women can be indoors or outside\, made with real snow\, paper\, fabric &mdash\; you get the idea &mdash\; anything goes! Get creative &mdash\; use props\, include your logo\, dress it in a company uniform. Take a photo of your creation and send it to chamber@fergusfalls.com by January 29\, 2018. We&rsquo\;ll post it on our Facebook page. They&rsquo\;ll be judged on overall creativity and we&rsquo\;ll announce the winner on February 2. The earlier you send it to us\, the more Facebook &ldquo\;likes &amp\; shares&rdquo\; you&rsquo\;ll get.<br />\n<br />\nJoin the fun and chase away cabin fever!<br />\nAll Chamber Members are encouraged to participate. Have questions? Call us: 218-736-6951</span>
LOCATION:Your location
UID:e.314.43524
SEQUENCE:3
DTSTAMP:20260424T060315Z
URL:https://business.fergusfalls.com/events/details/2nd-annual-snowman-contest-43524
END:VEVENT

END:VCALENDAR
