BEGIN:VCALENDAR
VERSION:2.0
PRODID:-//ChamberMaster//Event Calendar 2.0//EN
METHOD:PUBLISH
X-PUBLISHED-TTL:P3D
REFRESH-INTERVAL:P3D
CALSCALE:GREGORIAN
BEGIN:VEVENT
DTSTART:20160611T180000Z
DTEND:20160611T200000Z
X-MICROSOFT-CDO-ALLDAYEVENT:FALSE
SUMMARY:3 Mile Smile Ride
DESCRIPTION:3 mile bike ride with Pedal Fergus Falls.
X-ALT-DESC;FMTTYPE=text/html:3 mile bike ride with Pedal Fergus Falls.
LOCATION:Meet at the RTC Kirkbride Campus\, 1400 N. Union Avenue
UID:e.314.32843
SEQUENCE:3
DTSTAMP:20260425T125650Z
URL:https://business.fergusfalls.com/events/details/3-mile-smile-ride-06-11-2016-32843
END:VEVENT

END:VCALENDAR
