BEGIN:VCALENDAR
VERSION:2.0
PRODID:-//ChamberMaster//Event Calendar 2.0//EN
METHOD:PUBLISH
X-PUBLISHED-TTL:P3D
REFRESH-INTERVAL:P3D
CALSCALE:GREGORIAN
BEGIN:VEVENT
DTSTART:20151019T183000Z
DTEND:20151019T203000Z
X-MICROSOFT-CDO-ALLDAYEVENT:FALSE
SUMMARY:3 Part Series for Journaling - Freedom Resource Center
DESCRIPTION:3 Part Series\n\n\n\nDay 1 Oct. 15th\n\n1:30-3:30pm Make Your Journal\n\n\n\nDay 2 Oct. 22nd\n\n1:30-3:30pm Learn to Art Journal\n\n\n\nDay 3 Oct. 29th\n\n1:30-3:30pm Journal with Words\n\n\n\n\n\n\n\nConference Room #3 125 West Lincoln Ave. \n\n\n\nFergus Falls\, MN \n\n\n\nSign up is required-space is limited! FREE\n\n\n\nCall Tanya at 218-998-1799
X-ALT-DESC;FMTTYPE=text/html:<strong><span style="font-size: 14px\;">3 Part Series</span><br />\n<br />\nDay 1 Oct. 15th<br />\n1:30-3:30pm Make Your Journal<br />\n<br />\nDay 2 Oct. 22nd<br />\n1:30-3:30pm Learn to Art Journal<br />\n<br />\nDay 3 Oct. 29th<br />\n1:30-3:30pm Journal with Words<br />\n<br />\n<br />\n<br />\nConference Room #3 125 West Lincoln Ave.&nbsp\;<br />\n<br />\nFergus Falls\, MN&nbsp\;<br />\n<br />\nSign up is required-space is limited! FREE<br />\n<br />\nCall Tanya at 218-998-1799 </strong>
LOCATION:Conference Room #3 125 West Lincoln Ave. Fergus Falls\, MN
UID:e.314.24465
SEQUENCE:3
DTSTAMP:20260426T030342Z
URL:https://business.fergusfalls.com/events/details/3-part-series-for-journaling-freedom-resource-center-10-19-2015-24465
END:VEVENT

END:VCALENDAR
