BEGIN:VCALENDAR
VERSION:2.0
PRODID:-//ChamberMaster//Event Calendar 2.0//EN
METHOD:PUBLISH
X-PUBLISHED-TTL:P3D
REFRESH-INTERVAL:P3D
CALSCALE:GREGORIAN
BEGIN:VEVENT
DTSTART:20180407T190000Z
DTEND:20180407T200000Z
X-MICROSOFT-CDO-ALLDAYEVENT:FALSE
SUMMARY:30 Days of Biking Kickoff
DESCRIPTION:The 30 Days of Biking (30DOB) kickoff has become an annual tradition in Fergus Falls - and has been growing every year! While 30DOB still officially begins on April 1st\, we'll get together the following Saturday for the group photo and ride. We're excited that we'll once again be able to give away two kids' 24" bikes\, courtesy of Appert Insurance Services! To win the one of the bikes you must be signed up for 30 Days of Biking (www.30DOB.com) and must be present to win. Also the first 75 kids to show up will get a coupon for a free ice cream cone\, courtesy of the Fergus Falls Dairy Queen! And has been the tradition for the last five years\, we'll have spoke cards for the first 200 people at the event! We've also invited 30 Days of Biking Founder and Director Patrick Stephenson to join us again this year! We'll gather at 2:00 for the photo\, which will be followed by the drawing for the bikes. After the drawing\, we'll go on a short ride one-mile ride through the neighborhood to Dairy Queen. After a quick stop for a treat\, anyone who wants to go on a longer ride is welcome to do so! The longer ride will consist of a roughly 8-mile loop around Fergus Falls. We look forward to seeing you there!
X-ALT-DESC;FMTTYPE=text/html:The 30 Days of Biking (30DOB) kickoff has become an annual tradition in Fergus Falls - and has been growing every year! While 30DOB still officially begins on April 1st\, we&#39\;ll get together the following Saturday for the group photo and ride. We&#39\;re excited that we&#39\;ll once again be able to give away two kids&#39\; 24&quot\; bikes\, courtesy of Appert Insurance Services! To win the one of the bikes you must be signed up for 30 Days of Biking (www.30DOB.com) and must be present to win. Also the first 75 kids to show up will get a coupon for a free ice cream cone\, courtesy of the Fergus Falls Dairy Queen! And has been the tradition for the last five years\, we&#39\;ll have spoke cards for the first 200 people at the event! We&#39\;ve also invited 30 Days of Biking Founder and Director Patrick Stephenson to join us again this year! We&#39\;ll gather at 2:00 for the photo\, which will be followed by the drawing for the bikes. After the drawing\, we&#39\;ll go on a short ride one-mile ride through the neighborhood to Dairy Queen. After a quick stop for a treat\, anyone who wants to go on a longer ride is welcome to do so! The longer ride will consist of a roughly 8-mile loop around Fergus Falls. We look forward to seeing you there!
LOCATION:Adams Park / Otto the Otter Statue
UID:e.314.46356
SEQUENCE:3
DTSTAMP:20260423T235536Z
URL:https://business.fergusfalls.com/events/details/30-days-of-biking-kickoff-46356
END:VEVENT

END:VCALENDAR
