BEGIN:VCALENDAR
VERSION:2.0
PRODID:-//ChamberMaster//Event Calendar 2.0//EN
METHOD:PUBLISH
X-PUBLISHED-TTL:P3D
REFRESH-INTERVAL:P3D
CALSCALE:GREGORIAN
BEGIN:VEVENT
DTSTART:20160430T210000Z
DTEND:20160430T230000Z
X-MICROSOFT-CDO-ALLDAYEVENT:FALSE
SUMMARY:30DOB Wrap-up Party and National Bike Challenge Kick-Off!
DESCRIPTION:At the end of April\, Pedal Fergus Falls invites you to join us in wrapping up our rousing success with 30 Days of Biking\, and at the same time kick off the National Bike Challenge! We welcome anyone to join us for the celebration! 30DOB participants\, National Bike Challenge participants\, friends\, family and supporters - all are welcome! Ride your bike to Union Pizza & Brewing CO. on Saturday April 30th between 4-6pm. We'll have the alley next to the Union blocked off for bike parking\, picnic tables\, and room for folks to gather in the great outdoors! Remember to bring your spoke card for $1 off all beers and $2 off all pizzas\, including specialties. Come to eat\, drink or just socialize! This is a family-friendly event\, so feel free to bring the kids! We hope to see you there! You can find more info about 30 Days of Biking at www.30DOB.com And more info about the National Bike Challenge at https://nationalbikechallenge.org/
X-ALT-DESC;FMTTYPE=text/html:At the end of April\, Pedal Fergus Falls invites you to join us in wrapping up our rousing success with 30 Days of Biking\, and at the same time kick off the National Bike Challenge! We welcome anyone to join us for the celebration! 30DOB participants\, National Bike Challenge participants\, friends\, family and supporters - all are welcome! Ride your bike to Union Pizza &amp\; Brewing CO. on Saturday April 30th between 4-6pm. We&#39\;ll have the alley next to the Union blocked off for bike parking\, picnic tables\, and room for folks to gather in the great outdoors! Remember to bring your spoke card for $1 off all beers and $2 off all pizzas\, including specialties. Come to eat\, drink or just socialize! This is a family-friendly event\, so feel free to bring the kids! We hope to see you there! You can find more info about 30 Days of Biking at www.30DOB.com And more info about the National Bike Challenge at https://nationalbikechallenge.org/
LOCATION:In the alley next to Union Pizza & Brewing Co.
UID:e.314.32639
SEQUENCE:3
DTSTAMP:20260425T164546Z
URL:https://business.fergusfalls.com/events/details/30dob-wrap-up-party-and-national-bike-challenge-kick-off-04-30-2016-32639
END:VEVENT

END:VCALENDAR
