BEGIN:VCALENDAR
VERSION:2.0
PRODID:-//ChamberMaster//Event Calendar 2.0//EN
METHOD:PUBLISH
X-PUBLISHED-TTL:P3D
REFRESH-INTERVAL:P3D
CALSCALE:GREGORIAN
BEGIN:VEVENT
DTSTART:20160430T020000Z
DTEND:20160430T060000Z
X-MICROSOFT-CDO-ALLDAYEVENT:FALSE
SUMMARY:32 Below at the z103
DESCRIPTION:Z103 Bar & Grill presents 32 Below
X-ALT-DESC;FMTTYPE=text/html:<strong>Z103 Bar &amp\; Grill presents 32 Below</strong>
LOCATION:Z103 Bar & Grill/''House of Rock'' 925 Western Avenue Fergus Falls
UID:e.314.32662
SEQUENCE:3
DTSTAMP:20260425T163035Z
URL:https://business.fergusfalls.com/events/details/32-below-at-the-z103-04-29-2016-32662
END:VEVENT

END:VCALENDAR
