BEGIN:VCALENDAR
VERSION:2.0
PRODID:-//ChamberMaster//Event Calendar 2.0//EN
METHOD:PUBLISH
X-PUBLISHED-TTL:P3D
REFRESH-INTERVAL:P3D
CALSCALE:GREGORIAN
BEGIN:VEVENT
DTSTART:20160818T220000Z
DTEND:20160819T030000Z
X-MICROSOFT-CDO-ALLDAYEVENT:FALSE
SUMMARY:32nd Annual Fergus Falls Fish & Game Club Steak Fry Fundraiser
DESCRIPTION:32nd Annual Steak Fry Fundraiser\n\nPlease join us at the Otter Tail County Fair grounds for a night of fun! Hors d'oeuvres are served at 5\, with dinner and a program to follow. Check out the flyer on our home page for more information!
X-ALT-DESC;FMTTYPE=text/html:<strong>32nd Annual Steak Fry Fundraiser</strong><br />\nPlease join us at the Otter Tail County Fair grounds for a night of fun! Hors d&#39\;oeuvres are served at 5\, with dinner and a program to follow. Check out the flyer on our home page for more information!
LOCATION:Otter Tail County Fair Grounds 1812 Pebble Lake Rd\, Fergus Falls\, MN 56537
UID:e.314.35638
SEQUENCE:3
DTSTAMP:20260425T112508Z
URL:https://business.fergusfalls.com/events/details/32nd-annual-fergus-falls-fish-game-club-steak-fry-fundraiser-08-18-2016-35638
END:VEVENT

END:VCALENDAR
