BEGIN:VCALENDAR
VERSION:2.0
PRODID:-//ChamberMaster//Event Calendar 2.0//EN
METHOD:PUBLISH
X-PUBLISHED-TTL:P3D
REFRESH-INTERVAL:P3D
CALSCALE:GREGORIAN
BEGIN:VEVENT
DTSTART:20210812T220000Z
DTEND:20210813T013000Z
X-MICROSOFT-CDO-ALLDAYEVENT:FALSE
SUMMARY:37th Annual Fergus Falls Fish & Game Club Steak Fry Fundraiser
DESCRIPTION:374th Annual Fish & Game Club Steak Dinner\n\nPlease join us at the West Otter Tail County Fairgrounds for our annual steak dinner fundraiser! Tickets received by August 5th will be entered into our Early Bird Raffle. All proceeds benefit local wildlife habitat\, youth programs\, and more! \n\nFREE Youth Raffle\n\nAll proceeds are used locally on wildlife projects including land acquisitions\, nesting structures and youth programs.\n\n\n\nDinner includes: Charcoal grilled Ribeye Steak\, Potato\, Corn on the Cob\, Dinner Roll\, Cole Slaw & Dessert. Kids Meal: Hamburger or Hot Dog\n\nCash Bar
X-ALT-DESC;FMTTYPE=text/html:<strong>374th Annual Fish &amp\; Game Club Steak Dinner</strong><br />\n<span style="color: rgb(5\, 5\, 5)\; font-family: &quot\;Segoe UI Historic&quot\;\, &quot\;Segoe UI&quot\;\, Helvetica\, Arial\, sans-serif\; font-size: 15px\;">Please join us at the West Otter Tail County Fairgrounds for our annual steak dinner fundraiser! Tickets received by August 5th will be entered into our Early Bird Raffle. All proceeds benefit local wildlife habitat\, youth programs\, and more!</span><span style="color: rgb(5\, 5\, 5)\; font-family: &quot\;Segoe UI Historic&quot\;\, &quot\;Segoe UI&quot\;\, Helvetica\, Arial\, sans-serif\; font-size: 15px\;">&nbsp\;<br />\nFREE Youth Raffle</span><br />\nAll proceeds are used locally on wildlife projects including land acquisitions\, nesting structures and youth programs.<br />\n<br />\nDinner includes: Charcoal grilled Ribeye Steak\, Potato\, Corn on the Cob\, Dinner Roll\, Cole Slaw &amp\; Dessert. Kids Meal: Hamburger or Hot Dog<br />\nCash Bar
LOCATION:West Otter Tail County Fair Grounds 1812 Pebble Lake Rd\, Fergus Falls\, MN 56537
UID:e.314.50296
SEQUENCE:3
DTSTAMP:20260421T101606Z
URL:https://business.fergusfalls.com/events/details/37th-annual-fergus-falls-fish-game-club-steak-fry-fundraiser-50296
END:VEVENT

END:VCALENDAR
