BEGIN:VCALENDAR
VERSION:2.0
PRODID:-//ChamberMaster//Event Calendar 2.0//EN
METHOD:PUBLISH
X-PUBLISHED-TTL:P3D
REFRESH-INTERVAL:P3D
CALSCALE:GREGORIAN
BEGIN:VEVENT
DTSTART:20160213T190000Z
DTEND:20160213T210000Z
X-MICROSOFT-CDO-ALLDAYEVENT:FALSE
SUMMARY:37th Annual Sertoma Ice Fishing Derby - Sat. Feb. 13 -- new date!
DESCRIPTION:37th Annual Sertoma Ice Fishing Derby\n\nSaturday\, February 13\, 2016\n\n1-3pm\n\nNorth side of Pebble Lake (public access)\n\n\n\nFishing is free. Bait supplied free of charge. Concessions available. Contest for best fishing camps.\n\n\n\nGIANT FREE KIDS PRIZE Giveaway (kids 15 & under)\n\n\n\n Holes pre-drilled by the West Otter Tail Chapter of the Minnesota Dark House and Angling Association.
X-ALT-DESC;FMTTYPE=text/html:<strong><span style="font-size: medium\;"><span style="font-family: calibri\;">37<sup><span style="font-size: small\;">th</span></sup></span> Annual Sertoma Ice Fishing Derby</span></strong><br />\n<span style="font-size: medium\;"><span style="font-family: calibri\;">Saturday\, February 13\, 2016<br />\n1-3pm</span></span><br />\n<span style="font-size: medium\;"><span style="font-family: calibri\;">North side of Pebble Lake</span></span> (public access)<br />\n<br />\n<span style="font-size: medium\;"><span style="font-family: calibri\;">Fishing is free.&nbsp\;</span></span><span style="line-height: 29.09px\; font-family: calibri\; font-size: medium\;">Bait supplied free of charge. Concessions available. Contest for best fishing camps.<br />\n<br />\nGIANT FREE KIDS PRIZE Giveaway (kids 15 &amp\; under)</span><br />\n<br />\n<span style="line-height: 29.09px\; font-family: calibri\; font-size: medium\;">&#8203\;</span><span style="font-size: medium\;"><span style="font-family: calibri\;">Holes pre-drilled by the West Otter Tail Chapter&nbsp\;of the Minnesota Dark House and Angling Association.</span></span>
LOCATION:North side of Pebble Lake Take Pebble Lake Road to Delagoon Park entrance\, continue to Public Access.
UID:e.314.27964
SEQUENCE:3
DTSTAMP:20260425T215837Z
URL:https://business.fergusfalls.com/events/details/37th-annual-sertoma-ice-fishing-derby-sat-feb-13-new-date-02-13-2016-27964
END:VEVENT

END:VCALENDAR
