BEGIN:VCALENDAR
VERSION:2.0
PRODID:-//ChamberMaster//Event Calendar 2.0//EN
METHOD:PUBLISH
X-PUBLISHED-TTL:P3D
REFRESH-INTERVAL:P3D
CALSCALE:GREGORIAN
BEGIN:VEVENT
DTSTART:20160714T190000Z
DTEND:20160714T203000Z
X-MICROSOFT-CDO-ALLDAYEVENT:FALSE
SUMMARY:3D Printing Youth II - Ages 11-18 - FFPL
DESCRIPTION:The Fergus Falls Public Library is hosting a 3D Printing Youth II Workshop for ages 11-18. Learn\, create & print something cool to bring home! Space is limited. Register by calling the library at (218) 739-9387.
X-ALT-DESC;FMTTYPE=text/html:<span style="color: rgb(75\, 79\, 86)\; font-family: helvetica\, arial\, sans-serif\; font-size: 14px\; line-height: 18.76px\;">The Fergus Falls Public Library is hosting a 3D Printing Youth II Workshop for ages 11-18.&nbsp\;Learn\, create &amp\; print something cool to bring home! Space is limited. Register by calling the library at (218) 739-9387.</span>
LOCATION:Fergus Falls Public Library 205 Hampden Ave\, Fergus Falls\, Minnesota 56537
UID:e.314.32912
SEQUENCE:3
DTSTAMP:20260425T111802Z
URL:https://business.fergusfalls.com/events/details/3d-printing-youth-ii-ages-11-18-ffpl-07-14-2016-32912
END:VEVENT

END:VCALENDAR
