BEGIN:VCALENDAR
VERSION:2.0
PRODID:-//ChamberMaster//Event Calendar 2.0//EN
METHOD:PUBLISH
X-PUBLISHED-TTL:P3D
REFRESH-INTERVAL:P3D
CALSCALE:GREGORIAN
BEGIN:VEVENT
DTSTART:20161104T210000Z
DTEND:20161105T000000Z
X-MICROSOFT-CDO-ALLDAYEVENT:FALSE
SUMMARY:3rd Annual LifeSmiles Dental Halloween Candy Exchange
DESCRIPTION:Please COME to our 3rd Annual LifeSmiles Dental Halloween Candy Exchange on Friday\, November 4 from 4-7 pm! Bring in your candy & exchange for CASH! $1 per pound up to $10.00! (for those under age 18) All candy will be sent to Operation Gratitude! https://www.operationgratitude.com/
X-ALT-DESC;FMTTYPE=text/html:Please COME to our <strong>3rd Annual LifeSmiles Dental Halloween Candy </strong>Exchange on Friday\,<strong> November 4 from 4-7 pm!</strong> Bring in your candy &amp\; exchange for CASH! $<strong>1 per pound up to $10.00! </strong>(for those under age 18) All candy will be sent to Operation Gratitude! <a href="https://www.operationgratitude.com/" rel="nofollow" target="_blank"><font color="#0066cc">https://www.operationgratitude.com/</font></a>
LOCATION:LifeSmiles Dental 321 Western Ave Fergus Falls
UID:e.314.36579
SEQUENCE:3
DTSTAMP:20260425T040824Z
URL:https://business.fergusfalls.com/events/details/3rd-annual-lifesmiles-dental-halloween-candy-exchange-36579
END:VEVENT

END:VCALENDAR
