BEGIN:VCALENDAR
VERSION:2.0
PRODID:-//ChamberMaster//Event Calendar 2.0//EN
METHOD:PUBLISH
X-PUBLISHED-TTL:P3D
REFRESH-INTERVAL:P3D
CALSCALE:GREGORIAN
BEGIN:VEVENT
DTSTART:20151108T210000Z
DTEND:20151108T210000Z
X-MICROSOFT-CDO-ALLDAYEVENT:FALSE
SUMMARY:3rd Annual WLC Family Bingo
DESCRIPTION:A FUN event for the WHOLE family!\n\nSunday November 8th @ 3:00 PM\n\nFergus Falls VFW (420 E. Washington Ave.)\n\nProceeds benefit the Women's Leadership Council:\n\nPRESCRIPTION FOR READING PROGRAM\n\nFood & Drink Specials!\n\nBingo called by FF VFW MN Gaming Permit # 00162-001\n\nAll minors must be with an adult\n\nRaffle Top Prize: KINDLE FIRE!!!\n\nCash ONLY (ATM on site)\n\nFor more information call 218.736.5147 or visit www.uwotc.com\n\nONLY $1.00 per game
X-ALT-DESC;FMTTYPE=text/html:<span class="fsl"><strong>A FUN event for the WHOLE family!</strong><br />\n<strong>Sunday November 8th @ 3:00 PM</strong><br />\nFergus Falls VFW (420 E. Washington Ave.)<br />\nProceeds benefit the Women&rsquo\;s Leadership Council:<br />\nPRESCRIPTION FOR READING PROGRAM<br />\nFood &amp\; Drink Specials!<br />\nBingo called by FF VFW MN Gaming Permit # 00162-001<br />\nAll minors must be with an adult<br />\nRaffle Top Prize: KINDLE FIRE!!!<br />\nCash ONLY (ATM on site)<br />\nFor more information call 218.736.5147 or visit <a href="http://l.facebook.com/l.php?u=http%3A%2F%2Fwww.uwotc.com%2F&amp\;h=5AQH5MHqM&amp\;enc=AZN4BOFWNHSdU4FmEOnR5hsoBvUx51Md0rOTv_vzZCsloZE2i1vkdg8YkUl8pA3mDx8&amp\;s=1" rel="nofollow nofollow" target="_blank"><font color="#0066cc">www.uwotc.com</font></a><br />\nONLY $1.00 per game</span>
LOCATION:VFW Post 612 420 East Washington Ave Fergus Falls\, Minnesota (218) 739-2697
UID:e.314.24229
SEQUENCE:3
DTSTAMP:20260426T011452Z
URL:https://business.fergusfalls.com/events/details/3rd-annual-wlc-family-bingo-11-08-2015-24229
END:VEVENT

END:VCALENDAR
