BEGIN:VCALENDAR
VERSION:2.0
PRODID:-//ChamberMaster//Event Calendar 2.0//EN
METHOD:PUBLISH
X-PUBLISHED-TTL:P3D
REFRESH-INTERVAL:P3D
CALSCALE:GREGORIAN
BEGIN:VEVENT
DTSTART;VALUE=DATE:20160729
DTEND;VALUE=DATE:20160730
TRANSP:TRANSPARENT
X-MICROSOFT-CDO-ALLDAYEVENT:TRUE
SUMMARY:4 Lady Scramble at PLGC
DESCRIPTION:4 Lady Scramble at Pebble Lake Golf Club
X-ALT-DESC;FMTTYPE=text/html:4 Lady Scramble at Pebble Lake Golf Club&nbsp\;&nbsp\;&nbsp\;&nbsp\;
LOCATION:Pebble Lake Golf Club 1918 Pebble Lake Golf
UID:e.314.32928
SEQUENCE:3
DTSTAMP:20260425T125649Z
URL:https://business.fergusfalls.com/events/details/4-lady-scramble-at-plgc-07-29-2016-32928
END:VEVENT

END:VCALENDAR
